BEGIN:VCALENDAR
VERSION:2.0
PRODID:-//Kidsburgh - ECPv6.0.1.1//NONSGML v1.0//EN
CALSCALE:GREGORIAN
METHOD:PUBLISH
X-WR-CALNAME:Kidsburgh
X-ORIGINAL-URL:https://www.kidsburgh.org
X-WR-CALDESC:Events for Kidsburgh
REFRESH-INTERVAL;VALUE=DURATION:PT1H
X-Robots-Tag:noindex
X-PUBLISHED-TTL:PT1H
BEGIN:VTIMEZONE
TZID:America/New_York
BEGIN:DAYLIGHT
TZOFFSETFROM:-0500
TZOFFSETTO:-0400
TZNAME:EDT
DTSTART:20190310T070000
END:DAYLIGHT
BEGIN:STANDARD
TZOFFSETFROM:-0400
TZOFFSETTO:-0500
TZNAME:EST
DTSTART:20191103T060000
END:STANDARD
BEGIN:DAYLIGHT
TZOFFSETFROM:-0500
TZOFFSETTO:-0400
TZNAME:EDT
DTSTART:20200308T070000
END:DAYLIGHT
BEGIN:STANDARD
TZOFFSETFROM:-0400
TZOFFSETTO:-0500
TZNAME:EST
DTSTART:20201101T060000
END:STANDARD
BEGIN:DAYLIGHT
TZOFFSETFROM:-0500
TZOFFSETTO:-0400
TZNAME:EDT
DTSTART:20210314T070000
END:DAYLIGHT
BEGIN:STANDARD
TZOFFSETFROM:-0400
TZOFFSETTO:-0500
TZNAME:EST
DTSTART:20211107T060000
END:STANDARD
BEGIN:DAYLIGHT
TZOFFSETFROM:-0500
TZOFFSETTO:-0400
TZNAME:EDT
DTSTART:20220313T070000
END:DAYLIGHT
BEGIN:STANDARD
TZOFFSETFROM:-0400
TZOFFSETTO:-0500
TZNAME:EST
DTSTART:20221106T060000
END:STANDARD
END:VTIMEZONE
BEGIN:VEVENT
DTSTART;TZID=America/New_York:20220416T110000
DTEND;TZID=America/New_York:20220416T130000
DTSTAMP:20221005T201341
CREATED:20220404T200241Z
LAST-MODIFIED:20220404T200241Z
UID:90009-1650106800-1650114000@www.kidsburgh.org
SUMMARY:Eggstravaganza at Bridge City
DESCRIPTION:Join us for this family-friendly event with free food\, games and prizes! All Bridge City locations are hosting an Eggstravaganza event on Saturday\, April 16. Head to our website to find one near you!
URL:https://www.kidsburgh.org/ec/eggstravaganza-at-bridge-city/
LOCATION:Bridge City Church\, 4431 William Penn Highway\, Murrysville\, PA\, 15668\, United States
CATEGORIES:Community
ATTACH;FMTTYPE=image/jpeg:https://www.kidsburgh.org/wp-content/uploads/2022/04/EggsSquare2.jpg
ORGANIZER;CN="Bridge%20City%20Chruch":MAILTO:info@bridgecitypgh.com
GEO:40.4256596;-79.6770997
X-APPLE-STRUCTURED-LOCATION;VALUE=URI;X-ADDRESS=Bridge City Church 4431 William Penn Highway Murrysville PA 15668 United States;X-APPLE-RADIUS=500;X-TITLE=4431 William Penn Highway:geo:-79.6770997,40.4256596
END:VEVENT
BEGIN:VEVENT
DTSTART;TZID=America/New_York:20191027T160000
DTEND;TZID=America/New_York:20191027T180000
DTSTAMP:20221005T201341
CREATED:20190919T154629Z
LAST-MODIFIED:20190919T154629Z
UID:54598-1572192000-1572199200@www.kidsburgh.org
SUMMARY:Bridge City Church Trunk or Treat
DESCRIPTION:Bring the family and wear your favorite costumes. This free event includes food and drinks\, a petting zoo\, a pumpkin patch and pumpkin decorating. Rain or shine\, we’ll be here! \nYou can also join in on the fun and decorate your trunk and pass out candy!
URL:https://www.kidsburgh.org/ec/bridge-city-church-trunk-or-treat/
LOCATION:Bridge City Church\, 4431 William Penn Highway\, Murrysville\, PA\, 15668\, United States
ORGANIZER;CN="Bridge%20City%20Chruch":MAILTO:info@bridgecitypgh.com
GEO:40.4256596;-79.6770997
X-APPLE-STRUCTURED-LOCATION;VALUE=URI;X-ADDRESS=Bridge City Church 4431 William Penn Highway Murrysville PA 15668 United States;X-APPLE-RADIUS=500;X-TITLE=4431 William Penn Highway:geo:-79.6770997,40.4256596
END:VEVENT
END:VCALENDAR