BEGIN:VCALENDAR
VERSION:2.0
PRODID:-//Kidsburgh - ECPv6.0.1.1//NONSGML v1.0//EN
CALSCALE:GREGORIAN
METHOD:PUBLISH
X-ORIGINAL-URL:https://www.kidsburgh.org
X-WR-CALDESC:Events for Kidsburgh
REFRESH-INTERVAL;VALUE=DURATION:PT1H
X-Robots-Tag:noindex
X-PUBLISHED-TTL:PT1H
BEGIN:VTIMEZONE
TZID:America/New_York
BEGIN:DAYLIGHT
TZOFFSETFROM:-0500
TZOFFSETTO:-0400
TZNAME:EDT
DTSTART:20190310T070000
END:DAYLIGHT
BEGIN:STANDARD
TZOFFSETFROM:-0400
TZOFFSETTO:-0500
TZNAME:EST
DTSTART:20191103T060000
END:STANDARD
END:VTIMEZONE
BEGIN:VEVENT
DTSTART;TZID=America/New_York:20190721T120000
DTEND;TZID=America/New_York:20190721T200000
DTSTAMP:20221005T200114
CREATED:20190604T183442Z
LAST-MODIFIED:20190604T183442Z
UID:52445-1563710400-1563739200@www.kidsburgh.org
SUMMARY:Polish Hill Arts Festival
DESCRIPTION:Enjoy the diverse heritage\, food and entertainment of Pittsburgh’s neighborhoods.  Throughout the year\, community festivals celebrate city living and showcase neighborhoods’ best features.  Be sure to take advantage of this great opportunity to spend time with your neighbors while enjoying fun-filled family activities. \nFor more information\, follow @PghEventsOffice on Twitter\, LIKE @PghEventsOffice on Facebook or call the Special Events hotline at 412-255-2493.
URL:https://www.kidsburgh.org/ec/polish-hill-arts-festival/
LOCATION:Brereton Street\, Polish Hill\, Pittsburgh\, PA\, United States
CATEGORIES:Community
GEO:40.4579373;-79.9682293
X-APPLE-STRUCTURED-LOCATION;VALUE=URI;X-ADDRESS=Brereton Street Polish Hill Pittsburgh PA United States;X-APPLE-RADIUS=500;X-TITLE=Polish Hill:geo:-79.9682293,40.4579373
END:VEVENT
END:VCALENDAR