BEGIN:VCALENDAR
VERSION:2.0
PRODID:-//Kidsburgh - ECPv6.0.1.1//NONSGML v1.0//EN
CALSCALE:GREGORIAN
METHOD:PUBLISH
X-ORIGINAL-URL:https://www.kidsburgh.org
X-WR-CALDESC:Events for Kidsburgh
REFRESH-INTERVAL;VALUE=DURATION:PT1H
X-Robots-Tag:noindex
X-PUBLISHED-TTL:PT1H
BEGIN:VTIMEZONE
TZID:America/New_York
BEGIN:DAYLIGHT
TZOFFSETFROM:-0500
TZOFFSETTO:-0400
TZNAME:EDT
DTSTART:20220313T070000
END:DAYLIGHT
BEGIN:STANDARD
TZOFFSETFROM:-0400
TZOFFSETTO:-0500
TZNAME:EST
DTSTART:20221106T060000
END:STANDARD
END:VTIMEZONE
BEGIN:VEVENT
DTSTART;TZID=America/New_York:20220516T060000
DTEND;TZID=America/New_York:20220516T200000
DTSTAMP:20221005T201937
CREATED:20220426T151540Z
LAST-MODIFIED:20220426T151540Z
UID:90985-1652680800-1652731200@www.kidsburgh.org
SUMMARY:Under the Stars with 7th Grade Science
DESCRIPTION:Under the Stars with 7th Grade Science [Science|Technology|Youth Voice] \nMon\, May 16\, 6:00-8:00pm \nAges: Grade 7 \nHosted by: Brentwood Borough School District \nBe dazzled by 7th Grade Science Students\, who will teach astronomy-related lessons to their families. \nhttps://remakelearningdays.org/event/under-the-stars-with-7th-grade-science/# 
URL:https://www.kidsburgh.org/ec/under-the-stars-with-7th-grade-science-2/
LOCATION:Brentwood School Dist\, Pittsburgh\, PA\, 15222\, United States
CATEGORIES:Community,Remake Learning
ATTACH;FMTTYPE=image/jpeg:https://www.kidsburgh.org/wp-content/uploads/2022/04/05-12-2022_pa-southwestern_mmanolis.jpg
END:VEVENT
BEGIN:VEVENT
DTSTART;TZID=America/New_York:20220512T180000
DTEND;TZID=America/New_York:20220512T200000
DTSTAMP:20221005T201937
CREATED:20220426T025343Z
LAST-MODIFIED:20220426T025433Z
UID:90872-1652378400-1652385600@www.kidsburgh.org
SUMMARY:Under the Stars with 7th Grade Science
DESCRIPTION:7th Grade Science Students will collaborate with peers to create technology-based and hands-on lessons related to astronomy topics they researched. They will present these lessons to their families and the Brentwood community. This event will challenge students to research credible sources\, create a project with a common goal\, and serve as a community outreach project.
URL:https://www.kidsburgh.org/ec/under-the-stars-with-7th-grade-science/
LOCATION:Brentwood School Dist\, Pittsburgh\, PA\, 15222\, United States
CATEGORIES:Education,Remake Learning
ATTACH;FMTTYPE=image/jpeg:https://www.kidsburgh.org/wp-content/uploads/2022/04/05-12-2022_pa-southwestern_mmanolis.jpg
END:VEVENT
END:VCALENDAR