BEGIN:VCALENDAR
VERSION:2.0
PRODID:-//Kidsburgh - ECPv6.0.1.1//NONSGML v1.0//EN
CALSCALE:GREGORIAN
METHOD:PUBLISH
X-ORIGINAL-URL:https://www.kidsburgh.org
X-WR-CALDESC:Events for Kidsburgh
REFRESH-INTERVAL;VALUE=DURATION:PT1H
X-Robots-Tag:noindex
X-PUBLISHED-TTL:PT1H
BEGIN:VTIMEZONE
TZID:America/New_York
BEGIN:DAYLIGHT
TZOFFSETFROM:-0500
TZOFFSETTO:-0400
TZNAME:EDT
DTSTART:20220313T070000
END:DAYLIGHT
BEGIN:STANDARD
TZOFFSETFROM:-0400
TZOFFSETTO:-0500
TZNAME:EST
DTSTART:20221106T060000
END:STANDARD
END:VTIMEZONE
BEGIN:VEVENT
DTSTART;TZID=America/New_York:20220519T170000
DTEND;TZID=America/New_York:20220519T190000
DTSTAMP:20221005T200802
CREATED:20220426T183737Z
LAST-MODIFIED:20220426T183801Z
UID:91106-1652979600-1652986800@www.kidsburgh.org
SUMMARY:Propel Braddock Hills Middle School: eSports Family Gallery
DESCRIPTION:  \nIt’s Game time! Learn about the social and emotional benefits of academic eSports\, take part in contact creation activities\, and play some of our favorite eSports with your friends and family. \n 
URL:https://www.kidsburgh.org/ec/propel-braddock-hills-middle-school-esports-family-gallery/
LOCATION:Braddock Hills Middle School\, 1500 Yost Blvd\, Braddock Hills\, PA\, United States
CATEGORIES:Education,Community,Remake Learning
ATTACH;FMTTYPE=image/jpeg:https://www.kidsburgh.org/wp-content/uploads/2022/04/05-19-2022_pa-southwestern_kgolomb.jpg
END:VEVENT
END:VCALENDAR