BEGIN:VCALENDAR
VERSION:2.0
PRODID:-//Kidsburgh - ECPv6.0.1.1//NONSGML v1.0//EN
CALSCALE:GREGORIAN
METHOD:PUBLISH
X-WR-CALNAME:Kidsburgh
X-ORIGINAL-URL:https://www.kidsburgh.org
X-WR-CALDESC:Events for Kidsburgh
REFRESH-INTERVAL;VALUE=DURATION:PT1H
X-Robots-Tag:noindex
X-PUBLISHED-TTL:PT1H
BEGIN:VTIMEZONE
TZID:America/New_York
BEGIN:DAYLIGHT
TZOFFSETFROM:-0500
TZOFFSETTO:-0400
TZNAME:EDT
DTSTART:20220313T070000
END:DAYLIGHT
BEGIN:STANDARD
TZOFFSETFROM:-0400
TZOFFSETTO:-0500
TZNAME:EST
DTSTART:20221106T060000
END:STANDARD
END:VTIMEZONE
BEGIN:VEVENT
DTSTART;TZID=America/New_York:20220521T090000
DTEND;TZID=America/New_York:20220521T130000
DTSTAMP:20221005T200858
CREATED:20220426T223442Z
LAST-MODIFIED:20220426T223442Z
UID:91139-1653123600-1653138000@www.kidsburgh.org
SUMMARY:May Madness
DESCRIPTION:  \nGain some extra competition time and practice your robotics skills in a supportive environment with your team! \n 
URL:https://www.kidsburgh.org/ec/may-madness/
LOCATION:Boys and Girls Club Southwest  PA\, 6 Brownell St.\, Pittsburgh\, PA\, 15232\, United States
CATEGORIES:Education,Community,Remake Learning
ATTACH;FMTTYPE=image/jpeg:https://www.kidsburgh.org/wp-content/uploads/2022/04/05-21-2022_pa-southwestern_alanah-davis-scaled.jpg
END:VEVENT
BEGIN:VEVENT
DTSTART;TZID=America/New_York:20220518T173000
DTEND;TZID=America/New_York:20220518T180000
DTSTAMP:20221005T200858
CREATED:20220426T163105Z
LAST-MODIFIED:20220426T163105Z
UID:91047-1652895000-1652896800@www.kidsburgh.org
SUMMARY:Build a Solar Car! [Maker|Science]
DESCRIPTION:  \nLearn about the sustainable tech of solar panels\, as well as simple machines and motors\, by building a solar-powered car and then taking it for a spin! \nhttps://remakelearningdays.org/event/build-a-solar-car/# 
URL:https://www.kidsburgh.org/ec/build-a-solar-car-makerscience/
LOCATION:Boys and Girls Club Southwest  PA\, 6 Brownell St.\, Pittsburgh\, PA\, 15232\, United States
CATEGORIES:Community,Remake Learning
END:VEVENT
BEGIN:VEVENT
DTSTART;TZID=America/New_York:20220518T170000
DTEND;TZID=America/New_York:20220518T180000
DTSTAMP:20221005T200858
CREATED:20220426T163810Z
LAST-MODIFIED:20220426T163810Z
UID:91050-1652893200-1652896800@www.kidsburgh.org
SUMMARY:Build a Solar Car!
DESCRIPTION:  \nLearn about the sustainable tech of solar panels\, as well as simple machines and motors\, by building a solar-powered car and then taking it for a spin! \nhttps://remakelearningdays.org/event/build-a-solar-car/# 
URL:https://www.kidsburgh.org/ec/build-a-solar-car/
LOCATION:Boys and Girls Club Southwest  PA\, 6 Brownell St.\, Pittsburgh\, PA\, 15232\, United States
CATEGORIES:Community,Remake Learning
ATTACH;FMTTYPE=image/jpeg:https://www.kidsburgh.org/wp-content/uploads/2022/04/05-18-2022_pa-southwestern_sbender-scaled.jpg
END:VEVENT
BEGIN:VEVENT
DTSTART;TZID=America/New_York:20220430T130000
DTEND;TZID=America/New_York:20220430T160000
DTSTAMP:20221005T200858
CREATED:20220423T015205Z
LAST-MODIFIED:20220423T015205Z
UID:90544-1651323600-1651334400@www.kidsburgh.org
SUMMARY:Movie-Inspired Maker Saturday: Iron Man 3
DESCRIPTION:Do you see the cool gadgets and props in movies and wish you could make them too? Here’s your chance! Drop in anytime to light up an Iron Man arc reactor with simple circuit materials. You can take a break or get some inspiration by watching Iron Man 3 in another room. \n\nBefore the event\, BGCWPA staff will 3D print items that look like Iron Man arc reactors. At the event\, we will show youth how to make a circuit out of LEDs\, copper tape\, and coin cell batteries\, with craft foam as a base. They will glue their arc reactors on top of the circuit\, to make it look like the arc reactor is lighting up. They will have a chance to further decorate as they like\, such as by adding diffusing material like tissue paper. If this doesn’t take the full 3 hours\, the movie Iron Man 3 will be playing in another room for inspiration and for taking breaks. This will be a chance to introduce youth to maker technologies like 3D printers and creative circuits\, in a way that sparks their interest through a movie they may enjoy.
URL:https://www.kidsburgh.org/ec/movie-inspired-maker-saturday-iron-man-3/
LOCATION:Boys and Girls Club Southwest  PA\, 6 Brownell St.\, Pittsburgh\, PA\, 15232\, United States
CATEGORIES:Science and Technology,Education,Remake Learning
ATTACH;FMTTYPE=image/jpeg:https://www.kidsburgh.org/wp-content/uploads/2022/04/04-30-2022_pa-southwestern_sbender.jpeg
ORGANIZER;CN="Boys%20%26amp%3B%20Girls%20Clubs%20of%20Western%20Pennsylvania":MAILTO:contact@bgcwpa.org
END:VEVENT
END:VCALENDAR