BEGIN:VCALENDAR
VERSION:2.0
PRODID:-//Kidsburgh - ECPv6.0.1.1//NONSGML v1.0//EN
CALSCALE:GREGORIAN
METHOD:PUBLISH
X-WR-CALNAME:Kidsburgh
X-ORIGINAL-URL:https://www.kidsburgh.org
X-WR-CALDESC:Events for Kidsburgh
REFRESH-INTERVAL;VALUE=DURATION:PT1H
X-Robots-Tag:noindex
X-PUBLISHED-TTL:PT1H
BEGIN:VTIMEZONE
TZID:America/New_York
BEGIN:DAYLIGHT
TZOFFSETFROM:-0500
TZOFFSETTO:-0400
TZNAME:EDT
DTSTART:20200308T070000
END:DAYLIGHT
BEGIN:STANDARD
TZOFFSETFROM:-0400
TZOFFSETTO:-0500
TZNAME:EST
DTSTART:20201101T060000
END:STANDARD
END:VTIMEZONE
BEGIN:VEVENT
DTSTART;TZID=America/New_York:20200728T190000
DTEND;TZID=America/New_York:20200728T230000
DTSTAMP:20221005T194733
CREATED:20200708T202240Z
LAST-MODIFIED:20200708T202240Z
UID:67786-1595962800-1595977200@www.kidsburgh.org
SUMMARY:Drive-in Movies at Boyce Park
DESCRIPTION:Drive-In Movies at Boyce Park: Family Drive-In Movie \nJoin us this summer at Boyce Park for our Family Drive-In Movie Series! Gates open at 7:00 pm and the show will start at dusk. This event is free and will be first come first serve. Once the parking area reaches capacity\, we will announce on our Facebook page. \n\n\n\n\nFamily Movie\nBoyce Park Airfield Parking Lot\n\n\n\n\nSonic the Hedgehog (PG)\nTuesday\, July 28\n\n\nMoana (PG)\nTuesday\, August 4\n\n\nFrozen 2 (PG)\nTuesday\, August 11\n\n\nFinding Nemo (PG)\nTuesday\, August 18\n\n\nLion King (PG)\nTuesday\, August 25\n\n\nAladdin (PG)\nTuesday\, September 1\n\n\nThe Goonies (PG)\nTuesday\, September 8\n\n\nToy Story 4 (G)\nTuesday\, September 15\n\n\nMaleficent: Mistress of Evil (PG)\nTuesday\, September 22\n\n\nSecret Life of Pets 2 (PG)\nTuesday\, September 29
URL:https://www.kidsburgh.org/ec/drive-in-movies-at-boyce-park/2020-07-28/
LOCATION:Boyce Park Airfield
END:VEVENT
BEGIN:VEVENT
DTSTART;TZID=America/New_York:20200728T190000
DTEND;TZID=America/New_York:20200728T230000
DTSTAMP:20221005T194733
CREATED:20200708T202240Z
LAST-MODIFIED:20200708T202240Z
UID:74213-1595962800-1595977200@www.kidsburgh.org
SUMMARY:Drive-in Movies at Boyce Park
DESCRIPTION:Drive-In Movies at Boyce Park: Family Drive-In Movie \nJoin us this summer at Boyce Park for our Family Drive-In Movie Series! Gates open at 7:00 pm and the show will start at dusk. This event is free and will be first come first serve. Once the parking area reaches capacity\, we will announce on our Facebook page. \n\n\n\n\nFamily Movie\nBoyce Park Airfield Parking Lot\n\n\n\n\nSonic the Hedgehog (PG)\nTuesday\, July 28\n\n\nMoana (PG)\nTuesday\, August 4\n\n\nFrozen 2 (PG)\nTuesday\, August 11\n\n\nFinding Nemo (PG)\nTuesday\, August 18\n\n\nLion King (PG)\nTuesday\, August 25\n\n\nAladdin (PG)\nTuesday\, September 1\n\n\nThe Goonies (PG)\nTuesday\, September 8\n\n\nToy Story 4 (G)\nTuesday\, September 15\n\n\nMaleficent: Mistress of Evil (PG)\nTuesday\, September 22\n\n\nSecret Life of Pets 2 (PG)\nTuesday\, September 29
URL:https://www.kidsburgh.org/ec/drive-in-movies-at-boyce-park-2/2020-07-28/
LOCATION:Boyce Park Airfield
END:VEVENT
END:VCALENDAR