BEGIN:VCALENDAR
VERSION:2.0
PRODID:-//Kidsburgh - ECPv6.0.1.1//NONSGML v1.0//EN
CALSCALE:GREGORIAN
METHOD:PUBLISH
X-WR-CALNAME:Kidsburgh
X-ORIGINAL-URL:https://www.kidsburgh.org
X-WR-CALDESC:Events for Kidsburgh
REFRESH-INTERVAL;VALUE=DURATION:PT1H
X-Robots-Tag:noindex
X-PUBLISHED-TTL:PT1H
BEGIN:VTIMEZONE
TZID:America/New_York
BEGIN:DAYLIGHT
TZOFFSETFROM:-0500
TZOFFSETTO:-0400
TZNAME:EDT
DTSTART:20200308T070000
END:DAYLIGHT
BEGIN:STANDARD
TZOFFSETFROM:-0400
TZOFFSETTO:-0500
TZNAME:EST
DTSTART:20201101T060000
END:STANDARD
END:VTIMEZONE
BEGIN:VEVENT
DTSTART;TZID=America/New_York:20200428T173000
DTEND;TZID=America/New_York:20200428T193000
DTSTAMP:20221005T201209
CREATED:20200310T162654Z
LAST-MODIFIED:20200310T162654Z
UID:62014-1588095000-1588102200@www.kidsburgh.org
SUMMARY:Seelos Academy Pre-School Open House
DESCRIPTION:Calling all prospective pre-school students to meet our teachers\, visit classrooms and speak to our Principal.  Come see how Blessed Francis Seelos Early Learning Academy sets a standard of excellence for academic achievement and a life-long impact.  Our school is a place where education excels and faith inspires!  Offering 3 year old\, 4 year old and pre-K classrooms.  Please visit us at www.nhrces.org/seelos. \nPreschool Open House: Tuesday April 28 5:30 – 7:30 pm (St. Alexis Campus\, 10090 Perry Hwy\, Wexford\, PA 15090) \nCan’t make it on April 28th?  Call us at 724-935-3940 for a private tour at your convenience!
URL:https://www.kidsburgh.org/ec/seelos-academy-pre-school-open-house-2/
LOCATION:blessed francis seelos early learning center\, 10090 Old Perry Hwy\, Wexford\, 15090\, United States
CATEGORIES:Education
ATTACH;FMTTYPE=image/jpeg:https://www.kidsburgh.org/wp-content/uploads/2020/03/seelos1.jpg
GEO:40.5960992;-80.0438868
X-APPLE-STRUCTURED-LOCATION;VALUE=URI;X-ADDRESS=blessed francis seelos early learning center 10090 Old Perry Hwy Wexford 15090 United States;X-APPLE-RADIUS=500;X-TITLE=10090 Old Perry Hwy:geo:-80.0438868,40.5960992
END:VEVENT
BEGIN:VEVENT
DTSTART;TZID=America/New_York:20200127T180000
DTEND;TZID=America/New_York:20200127T200000
DTSTAMP:20221005T201209
CREATED:20191125T171548Z
LAST-MODIFIED:20191125T171548Z
UID:57331-1580148000-1580155200@www.kidsburgh.org
SUMMARY:Seelos Academy Pre-School Open House
DESCRIPTION:Calling all prospective pre-school students to meet our teachers\, visit classrooms and speak to our Principal.  Come see how Blessed Francis Seelos Early Learning Academy sets a standard of excellence for academic achievement and a life-long impact.  Our school is a place where education excels and faith inspires!  Offering 3 year old\, 4 year old and pre-K classrooms.   Before and after school care available.  Please visit us at www.nhrces.org/seelos. \nSt. Alexis Campus\, 10090 Old Perry Hwy\, Wexford\, PA 15090 \nCan’t make it on January 27th?  Call us for a private tour at your convenience! \n 
URL:https://www.kidsburgh.org/ec/seelos-academy-pre-school-open-house/
LOCATION:blessed francis seelos early learning center\, 10090 Old Perry Hwy\, Wexford\, 15090\, United States
CATEGORIES:Education
ATTACH;FMTTYPE=image/jpeg:https://www.kidsburgh.org/wp-content/uploads/2019/11/seelos1.jpg
ORGANIZER;CN="St.%20Alphonsus%20%26amp%3B%20Blessed%20Francis%20Seelos%20Academy":MAILTO:kids@seelosacademy.org
GEO:40.5960992;-80.0438868
X-APPLE-STRUCTURED-LOCATION;VALUE=URI;X-ADDRESS=blessed francis seelos early learning center 10090 Old Perry Hwy Wexford 15090 United States;X-APPLE-RADIUS=500;X-TITLE=10090 Old Perry Hwy:geo:-80.0438868,40.5960992
END:VEVENT
END:VCALENDAR