BEGIN:VCALENDAR
VERSION:2.0
PRODID:-//Kidsburgh - ECPv6.0.1.1//NONSGML v1.0//EN
CALSCALE:GREGORIAN
METHOD:PUBLISH
X-ORIGINAL-URL:https://www.kidsburgh.org
X-WR-CALDESC:Events for Kidsburgh
REFRESH-INTERVAL;VALUE=DURATION:PT1H
X-Robots-Tag:noindex
X-PUBLISHED-TTL:PT1H
BEGIN:VTIMEZONE
TZID:America/New_York
BEGIN:DAYLIGHT
TZOFFSETFROM:-0500
TZOFFSETTO:-0400
TZNAME:EDT
DTSTART:20200308T070000
END:DAYLIGHT
BEGIN:STANDARD
TZOFFSETFROM:-0400
TZOFFSETTO:-0500
TZNAME:EST
DTSTART:20201101T060000
END:STANDARD
END:VTIMEZONE
BEGIN:VEVENT
DTSTART;TZID=America/New_York:20200329T140000
DTEND;TZID=America/New_York:20200329T170000
DTSTAMP:20221005T194646
CREATED:20200218T171035Z
LAST-MODIFIED:20200218T171035Z
UID:60721-1585490400-1585501200@www.kidsburgh.org
SUMMARY:TeenBloc Youth Voice Pop-Up Exhibition
DESCRIPTION:TeenBloc is a creative and interactive story-telling collective\, hosting a series of pop-up events centered around the environmental\, community\, an educational experiences that are often dismissed or overlooked. These powerful\, creative and passionate students are raising up the vibrations of their communities\, schools\, creative minds and their individual and collective voices through multimedia means. Mediums of sculpture\, spoken-word\, performance art\, video\, and photography are just a few of the venues explored by the students to empower change through creative story-telling and advocacy. \nBlBlJoin us March 29th\, 2020 @ Black Forge Coffee House from 2pm-5pm and April 3rd\, 2020 during the Unblurred: Our Future Exhibiton @ BOOM Concepts. Both events are free of charge\, donations are encouraged.
URL:https://www.kidsburgh.org/ec/teenbloc-youth-voice-pop-up-exhibition/
LOCATION:Black Forge Coffee House\, 1206 Arlington Ave\, Pittsburgh\, PA\, 15210\, United States
CATEGORIES:Arts and Culture,Advocacy,Education,Community
ATTACH;FMTTYPE=image/jpeg:https://www.kidsburgh.org/wp-content/uploads/2020/02/fbevent_banner_web.jpg
GEO:40.4215251;-79.9923845
X-APPLE-STRUCTURED-LOCATION;VALUE=URI;X-ADDRESS=Black Forge Coffee House 1206 Arlington Ave Pittsburgh PA 15210 United States;X-APPLE-RADIUS=500;X-TITLE=1206 Arlington Ave:geo:-79.9923845,40.4215251
END:VEVENT
END:VCALENDAR