BEGIN:VCALENDAR
VERSION:2.0
PRODID:-//Kidsburgh - ECPv6.0.1.1//NONSGML v1.0//EN
CALSCALE:GREGORIAN
METHOD:PUBLISH
X-WR-CALNAME:Kidsburgh
X-ORIGINAL-URL:https://www.kidsburgh.org
X-WR-CALDESC:Events for Kidsburgh
REFRESH-INTERVAL;VALUE=DURATION:PT1H
X-Robots-Tag:noindex
X-PUBLISHED-TTL:PT1H
BEGIN:VTIMEZONE
TZID:America/New_York
BEGIN:DAYLIGHT
TZOFFSETFROM:-0500
TZOFFSETTO:-0400
TZNAME:EDT
DTSTART:20220313T070000
END:DAYLIGHT
BEGIN:STANDARD
TZOFFSETFROM:-0400
TZOFFSETTO:-0500
TZNAME:EST
DTSTART:20221106T060000
END:STANDARD
END:VTIMEZONE
BEGIN:VEVENT
DTSTART;TZID=America/New_York:20220517T103000
DTEND;TZID=America/New_York:20220517T113000
DTSTAMP:20221005T201350
CREATED:20220426T151946Z
LAST-MODIFIED:20220426T151946Z
UID:90989-1652783400-1652787000@www.kidsburgh.org
SUMMARY:Nature Explorers
DESCRIPTION:Nature Explorers [Arts|Maker|Outdoor Learning|Science] \nTues\, May 17\, 10:30-11:30am \nAges: Pre-K\, K \nHosted by: BF Jones Memorial Library \nBe ready for some messy fun as we explore the water cycle\, weather phenomenons as well as nature through stories\, songs\, and activities. \nhttps://remakelearningdays.org/event/nature-explorers/# 
URL:https://www.kidsburgh.org/ec/nature-explorers/
LOCATION:BF Jones Memorial Library\, 663 Franklin Ave\, Aliquippa\, PA\, United States
CATEGORIES:Community,Remake Learning
ATTACH;FMTTYPE=image/jpeg:https://www.kidsburgh.org/wp-content/uploads/2022/04/05-12-2022_pa-southwestern_kjanci.jpg
END:VEVENT
BEGIN:VEVENT
DTSTART;TZID=America/New_York:20220512T103000
DTEND;TZID=America/New_York:20220512T113000
DTSTAMP:20221005T201350
CREATED:20220424T024129Z
LAST-MODIFIED:20220424T024422Z
UID:90565-1652351400-1652355000@www.kidsburgh.org
SUMMARY:Nature Explorers
DESCRIPTION:Explore nature through discovery and play during our Remake Learning event featuring Plum Landing\, from PBS Kids and WQED! \n\nJoin us for a two part program on Thursday\, May 12 and Tuesday\, May 17 at 10:30 am. We will explore nature through stories\, songs\, and activities\, both in the Children’s Department and in the Library’s courtyard. Be ready for some messy fun as we explore the water cycle and weather phenomenons! \nThis program is geared toward families and care givers with children up to age 7. \nDrop-ins welcome! Please wear old clothing.
URL:https://www.kidsburgh.org/ec/90565/
LOCATION:BF Jones Memorial Library\, 663 Franklin Ave\, Aliquippa\, PA\, United States
CATEGORIES:Education,Community,Remake Learning
ATTACH;FMTTYPE=image/jpeg:https://www.kidsburgh.org/wp-content/uploads/2022/04/05-12-2022_pa-southwestern_kjanci.jpg
END:VEVENT
END:VCALENDAR