BEGIN:VCALENDAR
VERSION:2.0
PRODID:-//Kidsburgh - ECPv6.0.1.1//NONSGML v1.0//EN
CALSCALE:GREGORIAN
METHOD:PUBLISH
X-ORIGINAL-URL:https://www.kidsburgh.org
X-WR-CALDESC:Events for Kidsburgh
REFRESH-INTERVAL;VALUE=DURATION:PT1H
X-Robots-Tag:noindex
X-PUBLISHED-TTL:PT1H
BEGIN:VTIMEZONE
TZID:America/New_York
BEGIN:DAYLIGHT
TZOFFSETFROM:-0500
TZOFFSETTO:-0400
TZNAME:EDT
DTSTART:20190310T070000
END:DAYLIGHT
BEGIN:STANDARD
TZOFFSETFROM:-0400
TZOFFSETTO:-0500
TZNAME:EST
DTSTART:20191103T060000
END:STANDARD
END:VTIMEZONE
BEGIN:VEVENT
DTSTART;TZID=America/New_York:20190816T120000
DTEND;TZID=America/New_York:20190816T163000
DTSTAMP:20221005T201859
CREATED:20190604T180920Z
LAST-MODIFIED:20190604T180920Z
UID:52432-1565956800-1565973000@www.kidsburgh.org
SUMMARY:Bedford Dwellings Community Day
DESCRIPTION:Enjoy the diverse heritage\, food and entertainment of Pittsburgh’s neighborhoods. Throughout the year\, community festivals celebrate city living and showcase neighborhoods’ best features.  Be sure to take advantage of this great opportunity to spend time with your neighbors while enjoying fun-filled family activities. \nFor more information\, follow @PghEventsOffice on Twitter\, LIKE @PghEventsOffice on Facebook or call the Special Events hotline at 412-255-2493.citi
URL:https://www.kidsburgh.org/ec/bedford-dwellings-community-day/
LOCATION:Bedford Dwellings\, 2283 Somers Drive\, Pittsburgh\, PA\, United States
CATEGORIES:Community
GEO:40.4502399;-79.976058
X-APPLE-STRUCTURED-LOCATION;VALUE=URI;X-ADDRESS=Bedford Dwellings 2283 Somers Drive Pittsburgh PA United States;X-APPLE-RADIUS=500;X-TITLE=2283 Somers Drive:geo:-79.976058,40.4502399
END:VEVENT
END:VCALENDAR