BEGIN:VCALENDAR
VERSION:2.0
PRODID:-//Kidsburgh - ECPv6.0.1.1//NONSGML v1.0//EN
CALSCALE:GREGORIAN
METHOD:PUBLISH
X-ORIGINAL-URL:https://www.kidsburgh.org
X-WR-CALDESC:Events for Kidsburgh
REFRESH-INTERVAL;VALUE=DURATION:PT1H
X-Robots-Tag:noindex
X-PUBLISHED-TTL:PT1H
BEGIN:VTIMEZONE
TZID:America/New_York
BEGIN:DAYLIGHT
TZOFFSETFROM:-0500
TZOFFSETTO:-0400
TZNAME:EDT
DTSTART:20180311T070000
END:DAYLIGHT
BEGIN:STANDARD
TZOFFSETFROM:-0400
TZOFFSETTO:-0500
TZNAME:EST
DTSTART:20181104T060000
END:STANDARD
BEGIN:DAYLIGHT
TZOFFSETFROM:-0500
TZOFFSETTO:-0400
TZNAME:EDT
DTSTART:20190310T070000
END:DAYLIGHT
BEGIN:STANDARD
TZOFFSETFROM:-0400
TZOFFSETTO:-0500
TZNAME:EST
DTSTART:20191103T060000
END:STANDARD
BEGIN:DAYLIGHT
TZOFFSETFROM:-0500
TZOFFSETTO:-0400
TZNAME:EDT
DTSTART:20200308T070000
END:DAYLIGHT
BEGIN:STANDARD
TZOFFSETFROM:-0400
TZOFFSETTO:-0500
TZNAME:EST
DTSTART:20201101T060000
END:STANDARD
END:VTIMEZONE
BEGIN:VEVENT
DTSTART;TZID=America/New_York:20200125T120000
DTEND;TZID=America/New_York:20200125T160000
DTSTAMP:20221005T202055
CREATED:20200102T192536Z
LAST-MODIFIED:20200117T014501Z
UID:58479-1579953600-1579968000@www.kidsburgh.org
SUMMARY:2020 Lunar New Year Festival
DESCRIPTION:Celebrate not just one new year but also the Lunar New Year! Saturday 1/25/2020 from 12-4 PM at St Edmund’s Academy. The event is free to the public with family-friendly activities and great cultural performances from the Organization of Chinese Americans Performance Ensemble\, Win-Win Kung Fu Culture Center\, Yanlai Dance Academy\, Pittsburgh Chinese School Dance\, Gong Lung (Steel Dragon) Kung Fu and Lion and Dragon Dance\, Pittsburgh Taiko\, Jin Yang\, and the Rejoice Ensemble\, and the Bhutanese Community Association of Pittsburgh.
URL:https://www.kidsburgh.org/ec/2020-lunar-new-year-festival/
LOCATION:St. Edmunds Academy\, 5705 Darlington Road\, Pittsburgh\, PA\, 15217\, United States
CATEGORIES:Arts and Culture,Education
ATTACH;FMTTYPE=image/png:https://www.kidsburgh.org/wp-content/uploads/2020/01/LNY2020_POSTER_8x17-e1578084003662.png
GEO:40.437201;-79.924837
X-APPLE-STRUCTURED-LOCATION;VALUE=URI;X-ADDRESS=St. Edmunds Academy 5705 Darlington Road Pittsburgh PA 15217 United States;X-APPLE-RADIUS=500;X-TITLE=5705 Darlington Road:geo:-79.924837,40.437201
END:VEVENT
BEGIN:VEVENT
DTSTART;TZID=America/New_York:20180806T090000
DTEND;TZID=America/New_York:20180810T120000
DTSTAMP:20221005T202055
CREATED:20180506T163813Z
LAST-MODIFIED:20180506T163813Z
UID:44707-1533546000-1533902400@www.kidsburgh.org
SUMMARY:Pan Camp! 2018
DESCRIPTION:Join us for our 4th annual Pan Camp!\nStudents ages 8 and older are invited to spend a week learning all about the steelpan. Students will learn: \n\nSteelpan History\nBuilding and Tuning Process\nSteelpan Technique\nPerformance Technique\n\nPan Camp! will also include mini steelpan making and art activities. \nOur unique camp will not only teach students about the steelpan and music theory\, our programs also focus on enhancing social skills and increasing self esteem and confidence while promoting expression and creativity. The camp will end with a performance for family and friends. \nMorning Session 9-12pm \n*Healthy snacks will be provided. Please let us know if your child has a food allergy. \nScholarships Available! \nAbout Us \nBarrels to Beethoven is dedicated to the preservation\, education\, and innovation of the steelpan. Founded in 2014 by Leigh Solomon Pugliano\, Barrels to Beethoven provides engaging\, entertaining\, and interactive opportunities for the public\, especially young people\, to learn the accurate history of the instrument\, the building and tuning process\, music theory\, and technique. Leigh started the organization as a way to recognize and continue her father’s work. The mission of the organization is to provide impactful arts and cultural education to the community as well as sustain the instrument. In addition to learning music theory\, science\, innovation\, and technique\, kids who participate in our steelpan education programs gain the personal\, social\, emotional\, and educational assets needed to support healthy development.
URL:https://www.kidsburgh.org/ec/pan-camp-2018/
LOCATION:St. Edmunds Academy\, 5705 Darlington Road\, Pittsburgh\, PA\, 15217\, United States
CATEGORIES:Arts and Culture,Education,Community
ATTACH;FMTTYPE=image/jpeg:https://www.kidsburgh.org/wp-content/uploads/2018/05/IMG_9505-e1538496016680.jpg
ORGANIZER;CN="Barrels%20to%20Beethoven":MAILTO:barrelspgh@gmail.com
GEO:40.437201;-79.924837
X-APPLE-STRUCTURED-LOCATION;VALUE=URI;X-ADDRESS=St. Edmunds Academy 5705 Darlington Road Pittsburgh PA 15217 United States;X-APPLE-RADIUS=500;X-TITLE=5705 Darlington Road:geo:-79.924837,40.437201
END:VEVENT
END:VCALENDAR