BEGIN:VCALENDAR
VERSION:2.0
PRODID:-//Kidsburgh - ECPv6.0.1.1//NONSGML v1.0//EN
CALSCALE:GREGORIAN
METHOD:PUBLISH
X-WR-CALNAME:Kidsburgh
X-ORIGINAL-URL:https://www.kidsburgh.org
X-WR-CALDESC:Events for Kidsburgh
REFRESH-INTERVAL;VALUE=DURATION:PT1H
X-Robots-Tag:noindex
X-PUBLISHED-TTL:PT1H
BEGIN:VTIMEZONE
TZID:America/New_York
BEGIN:DAYLIGHT
TZOFFSETFROM:-0500
TZOFFSETTO:-0400
TZNAME:EDT
DTSTART:20220313T070000
END:DAYLIGHT
BEGIN:STANDARD
TZOFFSETFROM:-0400
TZOFFSETTO:-0500
TZNAME:EST
DTSTART:20221106T060000
END:STANDARD
END:VTIMEZONE
BEGIN:VEVENT
DTSTART;TZID=America/New_York:20220409T130000
DTEND;TZID=America/New_York:20220409T140000
DTSTAMP:20221005T195105
CREATED:20220328T124143Z
LAST-MODIFIED:20220328T124143Z
UID:89628-1649509200-1649512800@www.kidsburgh.org
SUMMARY:PPC's Wild Edible Plants Walk
DESCRIPTION:We will identify wild edible plants and discuss how to harvest them and use them as food. This hike/activity is best for families with older children (ages 8+).
URL:https://www.kidsburgh.org/ec/ppcs-wild-edible-plants-walk/
LOCATION:Bandi Schaum Community Garden\, South Side Park\, Pittsburgh\, 15213\, United States
CATEGORIES:Community
ATTACH;FMTTYPE=image/png:https://www.kidsburgh.org/wp-content/uploads/2022/03/Screenshot-218-9.png
END:VEVENT
END:VCALENDAR