BEGIN:VCALENDAR
VERSION:2.0
PRODID:-//Kidsburgh - ECPv6.0.1.1//NONSGML v1.0//EN
CALSCALE:GREGORIAN
METHOD:PUBLISH
X-ORIGINAL-URL:https://www.kidsburgh.org
X-WR-CALDESC:Events for Kidsburgh
REFRESH-INTERVAL;VALUE=DURATION:PT1H
X-Robots-Tag:noindex
X-PUBLISHED-TTL:PT1H
BEGIN:VTIMEZONE
TZID:America/New_York
BEGIN:DAYLIGHT
TZOFFSETFROM:-0500
TZOFFSETTO:-0400
TZNAME:EDT
DTSTART:20220313T070000
END:DAYLIGHT
BEGIN:STANDARD
TZOFFSETFROM:-0400
TZOFFSETTO:-0500
TZNAME:EST
DTSTART:20221106T060000
END:STANDARD
END:VTIMEZONE
BEGIN:VEVENT
DTSTART;TZID=America/New_York:20220520T090000
DTEND;TZID=America/New_York:20220520T150000
DTSTAMP:20221005T194631
CREATED:20220426T214205Z
LAST-MODIFIED:20220426T214205Z
UID:91124-1653037200-1653058800@www.kidsburgh.org
SUMMARY:Avonworth Elementary School – “Look for the Helpers” Day
DESCRIPTION:Be a helper by engaging in advocacy projects\, community service\, and outdoor learning experiences.
URL:https://www.kidsburgh.org/ec/avonworth-elementary-school-look-for-the-helpers-day/
LOCATION:Avonworth Elementary School\, 1320 Roosevelt Road\, Pittsburgh\, PA\, 15222\, United States
CATEGORIES:Education,Community,Remake Learning
ATTACH;FMTTYPE=image/jpeg:https://www.kidsburgh.org/wp-content/uploads/2022/04/05-20-2022_pa-southwestern_wbattistone.jpg
END:VEVENT
END:VCALENDAR