BEGIN:VCALENDAR
VERSION:2.0
PRODID:-//Kidsburgh - ECPv6.0.1.1//NONSGML v1.0//EN
CALSCALE:GREGORIAN
METHOD:PUBLISH
X-WR-CALNAME:Kidsburgh
X-ORIGINAL-URL:https://www.kidsburgh.org
X-WR-CALDESC:Events for Kidsburgh
REFRESH-INTERVAL;VALUE=DURATION:PT1H
X-Robots-Tag:noindex
X-PUBLISHED-TTL:PT1H
BEGIN:VTIMEZONE
TZID:America/New_York
BEGIN:DAYLIGHT
TZOFFSETFROM:-0500
TZOFFSETTO:-0400
TZNAME:EDT
DTSTART:20190310T070000
END:DAYLIGHT
BEGIN:STANDARD
TZOFFSETFROM:-0400
TZOFFSETTO:-0500
TZNAME:EST
DTSTART:20191103T060000
END:STANDARD
BEGIN:DAYLIGHT
TZOFFSETFROM:-0500
TZOFFSETTO:-0400
TZNAME:EDT
DTSTART:20200308T070000
END:DAYLIGHT
BEGIN:STANDARD
TZOFFSETFROM:-0400
TZOFFSETTO:-0500
TZNAME:EST
DTSTART:20201101T060000
END:STANDARD
BEGIN:DAYLIGHT
TZOFFSETFROM:-0500
TZOFFSETTO:-0400
TZNAME:EDT
DTSTART:20210314T070000
END:DAYLIGHT
BEGIN:STANDARD
TZOFFSETFROM:-0400
TZOFFSETTO:-0500
TZNAME:EST
DTSTART:20211107T060000
END:STANDARD
BEGIN:DAYLIGHT
TZOFFSETFROM:-0500
TZOFFSETTO:-0400
TZNAME:EDT
DTSTART:20220313T070000
END:DAYLIGHT
BEGIN:STANDARD
TZOFFSETFROM:-0400
TZOFFSETTO:-0500
TZNAME:EST
DTSTART:20221106T060000
END:STANDARD
END:VTIMEZONE
BEGIN:VEVENT
DTSTART;TZID=America/New_York:20220611T110000
DTEND;TZID=America/New_York:20220611T170000
DTSTAMP:20221005T201300
CREATED:20220520T213456Z
LAST-MODIFIED:20220520T213456Z
UID:92021-1654945200-1654966800@www.kidsburgh.org
SUMMARY:Hip-Hop Camp
DESCRIPTION:The August Wilson African American Cultural Center is proud to present its last Hip-Hop camp sessions with Hip-Hop Camp: My Name My Place Street Art and Graffiti Workshop. These sessions will be led by educator\, DS Kinsel. The purpose of this camp will be to educate students on the history and significance of graffiti art and its role in Hip-Hop Culture\, Black History\, and Public Art. Students will be able to use their creativity to explore this topic and create their own temporary street art project and tag name. Registration includes two sessions will take place at the August Wilson African American Cultural Center on June 11th and June 25th in our studio.
URL:https://www.kidsburgh.org/ec/hip-hop-camp/
LOCATION:August Wilson African American Cultural Center\, 980 Liberty Ave\, Pittsburgh\, PA\, 15222\, United States
CATEGORIES:Arts and Culture
ATTACH;FMTTYPE=image/jpeg:https://www.kidsburgh.org/wp-content/uploads/2022/05/hip-hp-camp.jpg
ORGANIZER;CN="August%20Wilson%20Center":MAILTO:info@aacc-awc.org
GEO:40.4434275;-79.9955118
X-APPLE-STRUCTURED-LOCATION;VALUE=URI;X-ADDRESS=August Wilson African American Cultural Center 980 Liberty Ave Pittsburgh PA 15222 United States;X-APPLE-RADIUS=500;X-TITLE=980 Liberty Ave:geo:-79.9955118,40.4434275
END:VEVENT
BEGIN:VEVENT
DTSTART;TZID=America/New_York:20220514T110000
DTEND;TZID=America/New_York:20220514T170000
DTSTAMP:20221005T201300
CREATED:20220316T211302Z
LAST-MODIFIED:20220316T211302Z
UID:89484-1652526000-1652547600@www.kidsburgh.org
SUMMARY:The Elements of HipHop Dance first session
DESCRIPTION:The August Wilson African American Cultural Center is thrilled to bring Hip-Hop Camp: The Elements of Hip-Hop Dance\, with educator Christian “JITA” Brown. The purpose of this camp will be to educate students on the fundamentals of dance and what makes hip-hop dance an influential style of dance. JITA will take students on a journey through popping\, locking\, and break dancing\, and encourage students to use their individual style and personality to create a dance masterpiece. \nThe two sessions will take place at the August Wilson African American Cultural Center on May 14th and May 28th in our studio. It is recommended that students wear comfortable clothing and shoes to easily move during the sessions. This class is designed for students 10 to 16 years of age and class size will be limited to ensure all students receive proper instructions to achieve their goals. All students will receive a swag bag that will be mailed prior to start of the sessions.
URL:https://www.kidsburgh.org/ec/the-elements-of-hiphop-dance-first-session/2022-05-14/
LOCATION:August Wilson African American Cultural Center\, 980 Liberty Ave\, Pittsburgh\, PA\, 15222\, United States
CATEGORIES:Arts and Culture,Education,Community
ATTACH;FMTTYPE=image/jpeg:https://www.kidsburgh.org/wp-content/uploads/2022/03/hiphop.jpg
ORGANIZER;CN="August%20Wilson%20African%20American%20Cultural%20Center":MAILTO:info@aacc-awc.org
GEO:40.4434275;-79.9955118
X-APPLE-STRUCTURED-LOCATION;VALUE=URI;X-ADDRESS=August Wilson African American Cultural Center 980 Liberty Ave Pittsburgh PA 15222 United States;X-APPLE-RADIUS=500;X-TITLE=980 Liberty Ave:geo:-79.9955118,40.4434275
END:VEVENT
BEGIN:VEVENT
DTSTART;TZID=America/New_York:20200221T190000
DTEND;TZID=America/New_York:20200221T203000
DTSTAMP:20221005T201300
CREATED:20200211T220215Z
LAST-MODIFIED:20200211T220215Z
UID:60612-1582311600-1582317000@www.kidsburgh.org
SUMMARY:'Tubman' by Lacresha Berry
DESCRIPTION:August Wilson African American Cultural Center in partnership with HI-ARTS presents: ‘Tubman’ by Lacresha Berry \nFebruary 21st at 7PM \nThis one-woman show presents the story of Harriet Tubman reimagined as a young woman growing up in Harlem through a theatrical lens. This session will take the story of Harriet in the 19th century and places her in the 21st century; laced with the problems facing African-American youth all over the country. And especially focusing on the mistreatment of black girls in schools. \nWhat would happen if a young woman like Harriet became a leader in this new world? \nBest for middle-school age and older.
URL:https://www.kidsburgh.org/ec/tubman-by-lacresha-berry/
LOCATION:August Wilson African American Cultural Center\, 980 Liberty Ave\, Pittsburgh\, PA\, 15222\, United States
CATEGORIES:Arts and Culture
GEO:40.4434275;-79.9955118
X-APPLE-STRUCTURED-LOCATION;VALUE=URI;X-ADDRESS=August Wilson African American Cultural Center 980 Liberty Ave Pittsburgh PA 15222 United States;X-APPLE-RADIUS=500;X-TITLE=980 Liberty Ave:geo:-79.9955118,40.4434275
END:VEVENT
BEGIN:VEVENT
DTSTART;TZID=America/New_York:20190624T090000
DTEND;TZID=America/New_York:20190624T120000
DTSTAMP:20221005T201300
CREATED:20190524T182906Z
LAST-MODIFIED:20190620T170853Z
UID:52177-1561366800-1561377600@www.kidsburgh.org
SUMMARY:August Wilson Center Summer Youth Writers Camp
DESCRIPTION:Are you a middle schooler that loves to write and wants to learn more? Whether you’re obsessed with poetry\, plays\, short stories\, songwriting\, or all of the above\, The August Wilson Cultural Center’s Second Annual Summer Youth Writers Camp wants you! August Wilson believed that our own voices and communities were essential to our art. Together we will look at some of Wilsons influences as well as our own as we explore our unique writing voice. Each day will be filled with exciting theater games and thought-provoking writing exercises to sharpen your pen. You’ll have several opportunities to meet new friends\, share your work\, and engage in constructive feedback. Come and join a strong\, supportive community of young writers who are going to change the world! \nDate: June 24-28\, 2019\nTime: 9:00am-12:00pm \nAll participants must be current or rising middle school students and scholarships are available!
URL:https://www.kidsburgh.org/ec/august-wilson-african-american-cultural-center-summer-youth-writers-camp/
LOCATION:August Wilson African American Cultural Center\, 980 Liberty Ave\, Pittsburgh\, PA\, 15222\, United States
CATEGORIES:Arts and Culture
ATTACH;FMTTYPE=image/jpeg:https://www.kidsburgh.org/wp-content/uploads/2019/05/YouthWriters-Flyer-JPG.jpg
ORGANIZER;CN="August%20Wilson%20African%20American%20Cultural%20Center":MAILTO:info@aacc-awc.org
GEO:40.4434275;-79.9955118
X-APPLE-STRUCTURED-LOCATION;VALUE=URI;X-ADDRESS=August Wilson African American Cultural Center 980 Liberty Ave Pittsburgh PA 15222 United States;X-APPLE-RADIUS=500;X-TITLE=980 Liberty Ave:geo:-79.9955118,40.4434275
END:VEVENT
END:VCALENDAR