BEGIN:VCALENDAR
VERSION:2.0
PRODID:-//Kidsburgh - ECPv6.0.1.1//NONSGML v1.0//EN
CALSCALE:GREGORIAN
METHOD:PUBLISH
X-WR-CALNAME:Kidsburgh
X-ORIGINAL-URL:https://www.kidsburgh.org
X-WR-CALDESC:Events for Kidsburgh
REFRESH-INTERVAL;VALUE=DURATION:PT1H
X-Robots-Tag:noindex
X-PUBLISHED-TTL:PT1H
BEGIN:VTIMEZONE
TZID:America/New_York
BEGIN:DAYLIGHT
TZOFFSETFROM:-0500
TZOFFSETTO:-0400
TZNAME:EDT
DTSTART:20220313T070000
END:DAYLIGHT
BEGIN:STANDARD
TZOFFSETFROM:-0400
TZOFFSETTO:-0500
TZNAME:EST
DTSTART:20221106T060000
END:STANDARD
END:VTIMEZONE
BEGIN:VEVENT
DTSTART;TZID=America/New_York:20220514T150000
DTEND;TZID=America/New_York:20220514T160000
DTSTAMP:20221005T195301
CREATED:20220426T143754Z
LAST-MODIFIED:20220426T143754Z
UID:90959-1652540400-1652544000@www.kidsburgh.org
SUMMARY:Some Assembly Required Reimagined
DESCRIPTION:Some Assembly Required Reimagined [Arts|Maker|Youth Voice] \nSat\, May 14 and Sun\, May 15\, 3:00-4:00pm \nAges: All Ages \nHosted by: Attack Theatre \nPrice: $11-$25 (some showings are pay what moves you) \nDance into a new way to view visual art\, a new lens to experience dance and live music\, and a new outlook on the culture of engaging arts experiences. \nhttps://remakelearningdays.org/event/some-assembly-required-reimagined/# 
URL:https://www.kidsburgh.org/ec/some-assembly-required-reimagined-2/2022-05-14/
LOCATION:Attach Theatre\, 212 45th Street\, Pittsburgh\, PA\, United States
CATEGORIES:Community,Remake Learning
ATTACH;FMTTYPE=image/png:https://www.kidsburgh.org/wp-content/uploads/2022/04/05-13-2022_pa-southwestern_apopieski.png
END:VEVENT
BEGIN:VEVENT
DTSTART;TZID=America/New_York:20220513T180000
DTEND;TZID=America/New_York:20220513T190000
DTSTAMP:20221005T195301
CREATED:20220426T032416Z
LAST-MODIFIED:20220426T032416Z
UID:90894-1652464800-1652468400@www.kidsburgh.org
SUMMARY:Some Assembly Required Reimagined
DESCRIPTION:Dance into a new way to view visual art\, a new lens to experience dance and live music\, and a new outlook on the culture of engaging arts experiences. \n 
URL:https://www.kidsburgh.org/ec/some-assembly-required-reimagined/
LOCATION:Attach Theatre\, 212 45th Street\, Pittsburgh\, PA\, United States
CATEGORIES:Arts and Culture,Remake Learning
ATTACH;FMTTYPE=image/png:https://www.kidsburgh.org/wp-content/uploads/2022/04/05-13-2022_pa-southwestern_apopieski.png
END:VEVENT
END:VCALENDAR