BEGIN:VCALENDAR
VERSION:2.0
PRODID:-//Kidsburgh - ECPv6.0.1.1//NONSGML v1.0//EN
CALSCALE:GREGORIAN
METHOD:PUBLISH
X-WR-CALNAME:Kidsburgh
X-ORIGINAL-URL:https://www.kidsburgh.org
X-WR-CALDESC:Events for Kidsburgh
REFRESH-INTERVAL;VALUE=DURATION:PT1H
X-Robots-Tag:noindex
X-PUBLISHED-TTL:PT1H
BEGIN:VTIMEZONE
TZID:America/New_York
BEGIN:DAYLIGHT
TZOFFSETFROM:-0500
TZOFFSETTO:-0400
TZNAME:EDT
DTSTART:20220313T070000
END:DAYLIGHT
BEGIN:STANDARD
TZOFFSETFROM:-0400
TZOFFSETTO:-0500
TZNAME:EST
DTSTART:20221106T060000
END:STANDARD
END:VTIMEZONE
BEGIN:VEVENT
DTSTART;TZID=America/New_York:20220917T150000
DTEND;TZID=America/New_York:20220917T190000
DTSTAMP:20221005T194855
CREATED:20220830T002023Z
LAST-MODIFIED:20220830T002023Z
UID:94680-1663426800-1663441200@www.kidsburgh.org
SUMMARY:Tee it Forward
DESCRIPTION:Join us at this free event and celebrate all things First Tee!!\nActivities include a putting contest\, chipping clinic\, inflatable target and more.\nPicnic style cookout with complimentary ice cream.\nAnd a chance to win a trip to Pebble Beach!
URL:https://www.kidsburgh.org/ec/tee-it-forward/
LOCATION:Arnold Palmer Learning Center\, 5370 Schenley Drive\, Pittsburgh\, PA\, 15217\, United States
CATEGORIES:Community
ATTACH;FMTTYPE=image/png:https://www.kidsburgh.org/wp-content/uploads/2022/08/NEW-FT-Pittsburgh-Logo-Green-2020.png
ORGANIZER;CN="First%20Tee%20Pittsburgh":MAILTO:eamato@thefirstteepittsbugh.org
END:VEVENT
END:VCALENDAR