BEGIN:VCALENDAR
VERSION:2.0
PRODID:-//Kidsburgh - ECPv6.0.1.1//NONSGML v1.0//EN
CALSCALE:GREGORIAN
METHOD:PUBLISH
X-WR-CALNAME:Kidsburgh
X-ORIGINAL-URL:https://www.kidsburgh.org
X-WR-CALDESC:Events for Kidsburgh
REFRESH-INTERVAL;VALUE=DURATION:PT1H
X-Robots-Tag:noindex
X-PUBLISHED-TTL:PT1H
BEGIN:VTIMEZONE
TZID:America/New_York
BEGIN:DAYLIGHT
TZOFFSETFROM:-0500
TZOFFSETTO:-0400
TZNAME:EDT
DTSTART:20190310T070000
END:DAYLIGHT
BEGIN:STANDARD
TZOFFSETFROM:-0400
TZOFFSETTO:-0500
TZNAME:EST
DTSTART:20191103T060000
END:STANDARD
END:VTIMEZONE
BEGIN:VEVENT
DTSTART;TZID=America/New_York:20190730T110000
DTEND;TZID=America/New_York:20190730T123000
DTSTAMP:20221005T200218
CREATED:20190620T204547Z
LAST-MODIFIED:20190620T204547Z
UID:52987-1564484400-1564489800@www.kidsburgh.org
SUMMARY:'Charlotte's Web'
DESCRIPTION:July 30-Aug. 8: “Charlotte’s Web\,” Apple Hill Playhouse. The barnyard friendship between Wilbur the pig and Charlotte\, the spider comes to life in this adaptation of the classic book.
URL:https://www.kidsburgh.org/ec/charlottes-web-3/2019-07-30/
LOCATION:Apple Hill Playhouse\, 275 Manor Road\, Delmont\, PA\, 15626\, United States
GEO:40.406323;-79.5782323
X-APPLE-STRUCTURED-LOCATION;VALUE=URI;X-ADDRESS=Apple Hill Playhouse 275 Manor Road Delmont PA 15626 United States;X-APPLE-RADIUS=500;X-TITLE=275 Manor Road:geo:-79.5782323,40.406323
END:VEVENT
END:VCALENDAR