BEGIN:VCALENDAR
VERSION:2.0
PRODID:-//Kidsburgh - ECPv6.0.1.1//NONSGML v1.0//EN
CALSCALE:GREGORIAN
METHOD:PUBLISH
X-WR-CALNAME:Kidsburgh
X-ORIGINAL-URL:https://www.kidsburgh.org
X-WR-CALDESC:Events for Kidsburgh
REFRESH-INTERVAL;VALUE=DURATION:PT1H
X-Robots-Tag:noindex
X-PUBLISHED-TTL:PT1H
BEGIN:VTIMEZONE
TZID:America/New_York
BEGIN:DAYLIGHT
TZOFFSETFROM:-0500
TZOFFSETTO:-0400
TZNAME:EDT
DTSTART:20220313T070000
END:DAYLIGHT
BEGIN:STANDARD
TZOFFSETFROM:-0400
TZOFFSETTO:-0500
TZNAME:EST
DTSTART:20221106T060000
END:STANDARD
END:VTIMEZONE
BEGIN:VEVENT
DTSTART;TZID=America/New_York:20220920T170000
DTEND;TZID=America/New_York:20220920T183000
DTSTAMP:20221005T201031
CREATED:20220808T142040Z
LAST-MODIFIED:20220808T142040Z
UID:94366-1663693200-1663698600@www.kidsburgh.org
SUMMARY:Anchor Green Garden Care Day
DESCRIPTION:Join us for garden care days at the Anchor Green in Emerald View Park. Help keep this space looking beautiful all summer long by weeding\, removing litter\, and caring for plantings. Tools and gloves will be provided. \nOn-street parking available on side streets off of Grandview Avenue. \nSpecial thanks to our partners Neighbors on the Mount and Mount Washington Community Development Corporation.
URL:https://www.kidsburgh.org/ec/anchor-green-garden-care-day-3/
LOCATION:Anchor Green Garden – Emerald View Park\, Grandview Avenue & McArdle Roadway
CATEGORIES:Community
ATTACH;FMTTYPE=image/jpeg:https://www.kidsburgh.org/wp-content/uploads/2022/08/download-1-2.jpeg
END:VEVENT
BEGIN:VEVENT
DTSTART;TZID=America/New_York:20220816T100000
DTEND;TZID=America/New_York:20220816T113000
DTSTAMP:20221005T201031
CREATED:20220630T152541Z
LAST-MODIFIED:20220630T152541Z
UID:93210-1660644000-1660649400@www.kidsburgh.org
SUMMARY:Anchor Green Garden Care Day – Emerald View Park – 08/16/2022
DESCRIPTION:Join us for garden care days at the Anchor Green in Emerald View Park. Help keep this space looking beautiful all summer long by weeding\, removing litter\, and caring for plantings. Tools and gloves will be provided. \nOn-street parking available on side streets off of Grandview Avenue. \nSpecial thanks to our partners Neighbors on the Mount and Mount Washington Community Development Corporation.
URL:https://www.kidsburgh.org/ec/anchor-green-garden-care-day-emerald-view-park-08-16-2022-2/
LOCATION:Anchor Green Garden – Emerald View Park\, Grandview Avenue & McArdle Roadway
CATEGORIES:Community
ATTACH;FMTTYPE=image/jpeg:https://www.kidsburgh.org/wp-content/uploads/2022/06/download-1-2.jpeg
END:VEVENT
BEGIN:VEVENT
DTSTART;TZID=America/New_York:20220816T100000
DTEND;TZID=America/New_York:20220816T113000
DTSTAMP:20221005T201031
CREATED:20220630T152440Z
LAST-MODIFIED:20220630T152440Z
UID:93208-1660644000-1660649400@www.kidsburgh.org
SUMMARY:Anchor Green Garden Care Day – Emerald View Park – 08/16/2022
DESCRIPTION:Join us for garden care days at the Anchor Green in Emerald View Park. Help keep this space looking beautiful all summer long by weeding\, removing litter\, and caring for plantings. Tools and gloves will be provided. \nOn-street parking available on side streets off of Grandview Avenue. \nSpecial thanks to our partners Neighbors on the Mount and Mount Washington Community Development Corporation.
URL:https://www.kidsburgh.org/ec/anchor-green-garden-care-day-emerald-view-park-08-16-2022/
LOCATION:Anchor Green Garden – Emerald View Park\, Grandview Avenue & McArdle Roadway
CATEGORIES:Community
ATTACH;FMTTYPE=image/jpeg:https://www.kidsburgh.org/wp-content/uploads/2022/06/download-1-1.jpeg
END:VEVENT
BEGIN:VEVENT
DTSTART;TZID=America/New_York:20220719T100000
DTEND;TZID=America/New_York:20220719T113000
DTSTAMP:20221005T201031
CREATED:20220614T173915Z
LAST-MODIFIED:20220614T173915Z
UID:92636-1658224800-1658230200@www.kidsburgh.org
SUMMARY:Anchor Green Garden Care Day
DESCRIPTION:Join us for garden care days at the Anchor Green in Emerald View Park. Help keep this space looking beautiful all summer long by weeding\, removing litter\, and caring for plantings. Tools and gloves will be provided. \nOn-street parking available on side streets off of Grandview Avenue. \nSpecial thanks to our partners Neighbors on the Mount and Mount Washington Community Development Corporation.
URL:https://www.kidsburgh.org/ec/anchor-green-garden-care-day-2/
LOCATION:Anchor Green Garden – Emerald View Park\, Grandview Avenue & McArdle Roadway
CATEGORIES:Community
ATTACH;FMTTYPE=image/jpeg:https://www.kidsburgh.org/wp-content/uploads/2022/06/download-1.jpeg
END:VEVENT
BEGIN:VEVENT
DTSTART;TZID=America/New_York:20220621T100000
DTEND;TZID=America/New_York:20220621T113000
DTSTAMP:20221005T201031
CREATED:20220531T134500Z
LAST-MODIFIED:20220531T134500Z
UID:92265-1655805600-1655811000@www.kidsburgh.org
SUMMARY:Anchor Green Garden Care Day
DESCRIPTION:Join us for garden care days at the Anchor Green in Emerald View Park. Help keep this space looking beautiful all summer long by weeding\, removing litter\, and caring for plantings. Tools and gloves will be provided. \nOn-street parking available on side streets off of Grandview Avenue. \nSpecial thanks to our partners Neighbors on the Mount and Mount Washington Community Development Corporation.
URL:https://www.kidsburgh.org/ec/anchor-green-garden-care-day/
LOCATION:Anchor Green Garden – Emerald View Park\, Grandview Avenue & McArdle Roadway
CATEGORIES:Community
ATTACH;FMTTYPE=image/jpeg:https://www.kidsburgh.org/wp-content/uploads/2022/05/download-1.jpeg
END:VEVENT
BEGIN:VEVENT
DTSTART;TZID=America/New_York:20220517T170000
DTEND;TZID=America/New_York:20220517T183000
DTSTAMP:20221005T201031
CREATED:20220420T080041Z
LAST-MODIFIED:20220420T080041Z
UID:90389-1652806800-1652812200@www.kidsburgh.org
SUMMARY:PPC's Anchor Green Garden Care Day
DESCRIPTION:Join us for garden care days at the Anchor Green in Emerald View Park. Help keep this space looking beautiful all summer long by weeding\, removing litter\, and caring for plantings. Tools and gloves will be provided. \nOn-street parking available on side streets off of Grandview Avenue. \nSpecial thanks to our partners Neighbors on the Mount and Mount Washington Community Development Corporation.
URL:https://www.kidsburgh.org/ec/ppcs-anchor-green-garden-care-day/
LOCATION:Anchor Green Garden – Emerald View Park\, Grandview Avenue & McArdle Roadway
CATEGORIES:Community
ATTACH;FMTTYPE=image/jpeg:https://www.kidsburgh.org/wp-content/uploads/2022/04/Anchor_Green_2021__3_-1.jpg
END:VEVENT
END:VCALENDAR