BEGIN:VCALENDAR
VERSION:2.0
PRODID:-//Kidsburgh - ECPv6.0.1.1//NONSGML v1.0//EN
CALSCALE:GREGORIAN
METHOD:PUBLISH
X-WR-CALNAME:Kidsburgh
X-ORIGINAL-URL:https://www.kidsburgh.org
X-WR-CALDESC:Events for Kidsburgh
REFRESH-INTERVAL;VALUE=DURATION:PT1H
X-Robots-Tag:noindex
X-PUBLISHED-TTL:PT1H
BEGIN:VTIMEZONE
TZID:America/New_York
BEGIN:DAYLIGHT
TZOFFSETFROM:-0500
TZOFFSETTO:-0400
TZNAME:EDT
DTSTART:20210314T070000
END:DAYLIGHT
BEGIN:STANDARD
TZOFFSETFROM:-0400
TZOFFSETTO:-0500
TZNAME:EST
DTSTART:20211107T060000
END:STANDARD
END:VTIMEZONE
BEGIN:VEVENT
DTSTART;TZID=America/New_York:20210820T120000
DTEND;TZID=America/New_York:20210820T220000
DTSTAMP:20221005T195457
CREATED:20210818T001409Z
LAST-MODIFIED:20210818T001456Z
UID:81843-1629460800-1629496800@www.kidsburgh.org
SUMMARY:Picklesburgh
DESCRIPTION:Twice voted the No. 1 Specialty Food Festival in the country\, Picklesburgh returns this year in all its dilly glory. The giant pickle balloon will cast its shadow over crowds on the Andy Warhol Bridge from Aug. 20-22. Kids don’t necessarily need to have an appetite for pickles to enjoy the Li’l Gherkins KidsPlay area\, where they’ll find activities like hands-on creative play and face painting. Their grownups will savor Pickle Cocktails and Pickle Beer and learn from DIY Pickling Demos. Music and food complete the festival atmosphere.
URL:https://www.kidsburgh.org/ec/picklesburgh-2/2021-08-20/
LOCATION:An\, 7th Street\, Pittsburgh\, 15212
CATEGORIES:Community
END:VEVENT
END:VCALENDAR