BEGIN:VCALENDAR
VERSION:2.0
PRODID:-//Kidsburgh - ECPv6.0.1.1//NONSGML v1.0//EN
CALSCALE:GREGORIAN
METHOD:PUBLISH
X-WR-CALNAME:Kidsburgh
X-ORIGINAL-URL:https://www.kidsburgh.org
X-WR-CALDESC:Events for Kidsburgh
REFRESH-INTERVAL;VALUE=DURATION:PT1H
X-Robots-Tag:noindex
X-PUBLISHED-TTL:PT1H
BEGIN:VTIMEZONE
TZID:America/New_York
BEGIN:DAYLIGHT
TZOFFSETFROM:-0500
TZOFFSETTO:-0400
TZNAME:EDT
DTSTART:20200308T070000
END:DAYLIGHT
BEGIN:STANDARD
TZOFFSETFROM:-0400
TZOFFSETTO:-0500
TZNAME:EST
DTSTART:20201101T060000
END:STANDARD
END:VTIMEZONE
BEGIN:VEVENT
DTSTART;TZID=America/New_York:20200806T080000
DTEND;TZID=America/New_York:20200806T140000
DTSTAMP:20221005T195111
CREATED:20200618T180122Z
LAST-MODIFIED:20200618T180122Z
UID:66242-1596700800-1596722400@www.kidsburgh.org
SUMMARY:Summer Immunization Clinic at Allegheny Valley YMCA
DESCRIPTION:UPMC Children’s Hospital\, UPMC Children’s Community Pediatrics and Ronald McDonald House Charities of Pittsburgh and Morgantown are partnering to bring needed vaccines\, safely\, to western Pennsylvania communities. In addition to providing vaccinations to children ages 2 months through high school\, staff will assist with WIC form completion. Children who receive immunizations will also receive health and safety information\, kindergarten registration information and activity bags full of at-home activities for summer time.
URL:https://www.kidsburgh.org/ec/summer-immunization-clinic-at-allegheny-valley-ymca-2/
LOCATION:Allegheny Valley YMCA\, 5021 Freeport Rd\, Natrona Heights\, PA\, 15065\, United States
CATEGORIES:Health and Wellness
ATTACH;FMTTYPE=image/jpeg:https://www.kidsburgh.org/wp-content/uploads/2020/06/CM-Flier-Page-1-14-scaled.jpg
GEO:40.6513934;-79.7099257
X-APPLE-STRUCTURED-LOCATION;VALUE=URI;X-ADDRESS=Allegheny Valley YMCA 5021 Freeport Rd Natrona Heights PA 15065 United States;X-APPLE-RADIUS=500;X-TITLE=5021 Freeport Rd:geo:-79.7099257,40.6513934
END:VEVENT
BEGIN:VEVENT
DTSTART;TZID=America/New_York:20200702T100000
DTEND;TZID=America/New_York:20200702T140000
DTSTAMP:20221005T195111
CREATED:20200618T180027Z
LAST-MODIFIED:20200618T180027Z
UID:66233-1593684000-1593698400@www.kidsburgh.org
SUMMARY:Summer Immunization Clinic at Allegheny Valley YMCA
DESCRIPTION:UPMC Children’s Hospital\, UPMC Children’s Community Pediatrics and Ronald McDonald House Charities of Pittsburgh and Morgantown are partnering to bring needed vaccines\, safely\, to western Pennsylvania communities. In addition to providing vaccinations to children ages 2 months through high school\, staff will assist with WIC form completion. Children who receive immunizations will also receive health and safety information\, kindergarten registration information and activity bags full of at-home activities for summer time.
URL:https://www.kidsburgh.org/ec/summer-immunization-clinic-at-allegheny-valley-ymca/
LOCATION:Allegheny Valley YMCA\, 5021 Freeport Rd\, Natrona Heights\, PA\, 15065\, United States
CATEGORIES:Health and Wellness
ATTACH;FMTTYPE=image/jpeg:https://www.kidsburgh.org/wp-content/uploads/2020/06/CM-Flier-Page-1-13-scaled.jpg
GEO:40.6513934;-79.7099257
X-APPLE-STRUCTURED-LOCATION;VALUE=URI;X-ADDRESS=Allegheny Valley YMCA 5021 Freeport Rd Natrona Heights PA 15065 United States;X-APPLE-RADIUS=500;X-TITLE=5021 Freeport Rd:geo:-79.7099257,40.6513934
END:VEVENT
END:VCALENDAR