BEGIN:VCALENDAR
VERSION:2.0
PRODID:-//Kidsburgh - ECPv6.0.1.1//NONSGML v1.0//EN
CALSCALE:GREGORIAN
METHOD:PUBLISH
X-ORIGINAL-URL:https://www.kidsburgh.org
X-WR-CALDESC:Events for Kidsburgh
REFRESH-INTERVAL;VALUE=DURATION:PT1H
X-Robots-Tag:noindex
X-PUBLISHED-TTL:PT1H
BEGIN:VTIMEZONE
TZID:America/New_York
BEGIN:DAYLIGHT
TZOFFSETFROM:-0500
TZOFFSETTO:-0400
TZNAME:EDT
DTSTART:20210314T070000
END:DAYLIGHT
BEGIN:STANDARD
TZOFFSETFROM:-0400
TZOFFSETTO:-0500
TZNAME:EST
DTSTART:20211107T060000
END:STANDARD
END:VTIMEZONE
BEGIN:VEVENT
DTSTART;TZID=America/New_York:20210828T100000
DTEND;TZID=America/New_York:20210828T110000
DTSTAMP:20221005T195411
CREATED:20210725T171452Z
LAST-MODIFIED:20210725T171452Z
UID:80900-1630144800-1630148400@www.kidsburgh.org
SUMMARY:Yoga in Allegheny Commons Park
DESCRIPTION:Come and flow with Pittsburgh’s best yoga instructors from Yoga Studios in this free all levels yoga event. Bring your kids and enjoy the feeling of practicing yoga beneath the trees in this city park! Sound sessions and food trucks for some classes. \nThese events are in partnership with the Counseling & Wellness Center of Pittsburgh.
URL:https://www.kidsburgh.org/ec/yoga-in-allegheny-commons-park-4/
LOCATION:Allegheny Commons West\, Near Brighton and Ridge
CATEGORIES:Health and Wellness
ATTACH;FMTTYPE=image/jpeg:https://www.kidsburgh.org/wp-content/uploads/2021/07/yoga-schenley-plaza-2018-altdorfer-3.jpg
END:VEVENT
BEGIN:VEVENT
DTSTART;TZID=America/New_York:20210821T100000
DTEND;TZID=America/New_York:20210821T110000
DTSTAMP:20221005T195411
CREATED:20210725T171356Z
LAST-MODIFIED:20210725T171356Z
UID:80899-1629540000-1629543600@www.kidsburgh.org
SUMMARY:Yoga in Allegheny Commons Park
DESCRIPTION:Come and flow with Pittsburgh’s best yoga instructors from Yoga Studios in this free all levels yoga event. Bring your kids and enjoy the feeling of practicing yoga beneath the trees in this city park! Sound sessions and food trucks for some classes. \nThese events are in partnership with the Counseling & Wellness Center of Pittsburgh.
URL:https://www.kidsburgh.org/ec/yoga-in-allegheny-commons-park-3/
LOCATION:Allegheny Commons West\, Near Brighton and Ridge
END:VEVENT
BEGIN:VEVENT
DTSTART;TZID=America/New_York:20210814T100000
DTEND;TZID=America/New_York:20210814T110000
DTSTAMP:20221005T195411
CREATED:20210725T171312Z
LAST-MODIFIED:20210725T171312Z
UID:80897-1628935200-1628938800@www.kidsburgh.org
SUMMARY:Yoga in Allegheny Commons Park
DESCRIPTION:Come and flow with Pittsburgh’s best yoga instructors from Yoga Studios in this free all levels yoga event. Bring your kids and enjoy the feeling of practicing yoga beneath the trees in this city park! Sound sessions and food trucks for some classes. \nThese events are in partnership with the Counseling & Wellness Center of Pittsburgh.
URL:https://www.kidsburgh.org/ec/yoga-in-allegheny-commons-park-2/
LOCATION:Allegheny Commons West\, Near Brighton and Ridge
CATEGORIES:Health and Wellness
ATTACH;FMTTYPE=image/jpeg:https://www.kidsburgh.org/wp-content/uploads/2021/07/yoga-schenley-plaza-2018-altdorfer-2.jpg
END:VEVENT
BEGIN:VEVENT
DTSTART;TZID=America/New_York:20210807T100000
DTEND;TZID=America/New_York:20210807T110000
DTSTAMP:20221005T195411
CREATED:20210725T170805Z
LAST-MODIFIED:20210725T170805Z
UID:80894-1628330400-1628334000@www.kidsburgh.org
SUMMARY:Yoga in Allegheny Commons Park
DESCRIPTION:Come and flow with Pittsburgh’s best yoga instructors from Yoga Studios in this free all levels yoga event. Bring your kids and enjoy the feeling of practicing yoga beneath the trees in this city park! Sound sessions and food trucks for some classes. \nThese events are in partnership with the Counseling & Wellness Center of Pittsburgh
URL:https://www.kidsburgh.org/ec/yoga-in-allegheny-commons-park/
LOCATION:Allegheny Commons West\, Near Brighton and Ridge
ATTACH;FMTTYPE=image/jpeg:https://www.kidsburgh.org/wp-content/uploads/2021/07/yoga-schenley-plaza-2018-altdorfer-1.jpg
END:VEVENT
END:VCALENDAR