BEGIN:VCALENDAR
VERSION:2.0
PRODID:-//Kidsburgh - ECPv6.0.1.1//NONSGML v1.0//EN
CALSCALE:GREGORIAN
METHOD:PUBLISH
X-WR-CALNAME:Kidsburgh
X-ORIGINAL-URL:https://www.kidsburgh.org
X-WR-CALDESC:Events for Kidsburgh
REFRESH-INTERVAL;VALUE=DURATION:PT1H
X-Robots-Tag:noindex
X-PUBLISHED-TTL:PT1H
BEGIN:VTIMEZONE
TZID:America/New_York
BEGIN:DAYLIGHT
TZOFFSETFROM:-0500
TZOFFSETTO:-0400
TZNAME:EDT
DTSTART:20220313T070000
END:DAYLIGHT
BEGIN:STANDARD
TZOFFSETFROM:-0400
TZOFFSETTO:-0500
TZNAME:EST
DTSTART:20221106T060000
END:STANDARD
END:VTIMEZONE
BEGIN:VEVENT
DTSTART;VALUE=DATE:20220225
DTEND;VALUE=DATE:20220408
DTSTAMP:20221005T201430
CREATED:20220301T151648Z
LAST-MODIFIED:20220301T151648Z
UID:88493-1645747200-1649375999@www.kidsburgh.org
SUMMARY:BELONG in STEM
DESCRIPTION:BELONG in STEM (Bringing Education Learning Opportunities for New Growth)  is a FREE STEAM program for high school students who are typically underrepresented in STEM careers. A group of 35 high school students will be selected to participate in 5 out of school time sessions and a 4-day summer camp experience. \nThis free STEAM program\, created in partnership with ABC CREATE and the Digital Foundry (and support from the Arconic Foundation)\, provides bridges from classroom learning experiences to those in the real world through hands-on experiences with technologies including robotics and smart connected systems\, artificial intelligence (AI)\, Augmented Reality and Virtual Reality (AR/VR)\, connections to industry networks\, and exposure to future opportunities. Sessions will be held at locations throughout the New Kensington area including at the Corner Launchbox\, the Penn State New Kensington campus\, the Digital Foundry and at various businesses. \nWho Should Apply:  High School students in the Pittsburgh region (with priority given to underrepresented populations from the Alle-Kiski Valley) who want to explore emerging technologies and build STEM and future ready skills. No prior experience with STEM or technology needed. \nTENTATIVE Session Dates and Times: \n\nSession 1: Saturday\, April 23\, 2022 from 11:00 AM – 1:30 PM (Lunch provided)\nSession 2: Saturday\, May 7\, 2022 from 11:00 AM – 1:30 PM (Lunch provided)\nSession 3: Saturday\, May 21\, 2022 from 11:00 AM – 1:30 PM (Lunch provided)\nTwo site visits to local businesses to see technologies in action (TBD): June 2022\n4-day Summer Camp\, July 11-14\, 2022 from 9 AM – 3 PM (Lunch provided)\n\nBELONG in STEM is a full series of experiences: Participants are expected to attend all 3 Saturday sessions\, the 2 site visits\, and the 4-day summer camp.
URL:https://www.kidsburgh.org/ec/belong-in-stem/2022-02-25/
LOCATION:All events will take place in the New Kensington area.
CATEGORIES:Science and Technology,Education
ATTACH;FMTTYPE=image/png:https://www.kidsburgh.org/wp-content/uploads/2022/02/BELONG-in-STEM-Flyer_Students_Revised-Due-Date.png
END:VEVENT
END:VCALENDAR