BEGIN:VCALENDAR
VERSION:2.0
PRODID:-//Kidsburgh - ECPv6.0.1.1//NONSGML v1.0//EN
CALSCALE:GREGORIAN
METHOD:PUBLISH
X-ORIGINAL-URL:https://www.kidsburgh.org
X-WR-CALDESC:Events for Kidsburgh
REFRESH-INTERVAL;VALUE=DURATION:PT1H
X-Robots-Tag:noindex
X-PUBLISHED-TTL:PT1H
BEGIN:VTIMEZONE
TZID:America/New_York
BEGIN:DAYLIGHT
TZOFFSETFROM:-0500
TZOFFSETTO:-0400
TZNAME:EDT
DTSTART:20200308T070000
END:DAYLIGHT
BEGIN:STANDARD
TZOFFSETFROM:-0400
TZOFFSETTO:-0500
TZNAME:EST
DTSTART:20201101T060000
END:STANDARD
END:VTIMEZONE
BEGIN:VEVENT
DTSTART;TZID=America/New_York:20200612T100000
DTEND;TZID=America/New_York:20200612T130000
DTSTAMP:20221005T200605
CREATED:20200601T152732Z
LAST-MODIFIED:20200601T152732Z
UID:65281-1591956000-1591966800@www.kidsburgh.org
SUMMARY:Babies in the ‘Burgh – Westmoreland County
DESCRIPTION:Beverly’s Birthdays will host Babies in the ‘Burgh – Westmoreland County\, from 10 a.m. to 1 p.m. June 12 at Achieva Early Intervention\, 316 Donohoe Road\, Greensburg. \nFamilies in need will be able to obtain formula\, diapers\, wipes\, baby food and snacks. Registration is required.
URL:https://www.kidsburgh.org/ec/babies-in-the-burgh-westmoreland-county/
LOCATION:Achieva Early Intervention\, 316 Donohoe Road\, Greensburg\, 15601
CATEGORIES:Health and Wellness,Advocacy
GEO:40.3131524;-79.4925648
X-APPLE-STRUCTURED-LOCATION;VALUE=URI;X-ADDRESS=Achieva Early Intervention 316 Donohoe Road Greensburg 15601;X-APPLE-RADIUS=500;X-TITLE=316 Donohoe Road:geo:-79.4925648,40.3131524
END:VEVENT
END:VCALENDAR