BEGIN:VCALENDAR
VERSION:2.0
PRODID:-//Kidsburgh - ECPv6.0.1.1//NONSGML v1.0//EN
CALSCALE:GREGORIAN
METHOD:PUBLISH
X-ORIGINAL-URL:https://www.kidsburgh.org
X-WR-CALDESC:Events for Kidsburgh
REFRESH-INTERVAL;VALUE=DURATION:PT1H
X-Robots-Tag:noindex
X-PUBLISHED-TTL:PT1H
BEGIN:VTIMEZONE
TZID:America/New_York
BEGIN:DAYLIGHT
TZOFFSETFROM:-0500
TZOFFSETTO:-0400
TZNAME:EDT
DTSTART:20210314T070000
END:DAYLIGHT
BEGIN:STANDARD
TZOFFSETFROM:-0400
TZOFFSETTO:-0500
TZNAME:EST
DTSTART:20211107T060000
END:STANDARD
END:VTIMEZONE
BEGIN:VEVENT
DTSTART;TZID=America/New_York:20211106T100000
DTEND;TZID=America/New_York:20211106T120000
DTSTAMP:20221005T195803
CREATED:20211105T124111Z
LAST-MODIFIED:20211105T124111Z
UID:85338-1636192800-1636200000@www.kidsburgh.org
SUMMARY:Drive-Up Diaper Distribution!
DESCRIPTION:Global Links and Western PA Diaper Bank will host a free public Drive-Up Diaper Distribution on Saturday\, November 6\, from 10:00 a.m. – 12:00 p.m. at UPMC Parking Lot 88 Swinburne St. Pittsburgh\, PA 15213. This event is sponsored by UPMC and UPMC Health Plan. This Drive-Up Diaper Distribution will happen rain or shine!\n\nFamilies and caregivers of young children who are experiencing financial hardship are invited to line up by car to receive about 200 diapers\, as well as six packages of wipes\, at no cost to families. Parents and caregivers will have the option of choosing up to two different sizes of diapers (Only sizes 1-6 available. No newborn or pull-ups available).\n\nPlease Note:\n*2 families CANNOT be represented in one car.\n*Children do not need to be in the car.\n*This Diaper Distribution is for children diapers and NOT adult diapers/briefs.\n*For everyone’s safety\, we CANNOT accommodate walk-ups at this event. Contact the Western PA Diaper Bank for how to get help if you don’t have a vehicle.
URL:https://www.kidsburgh.org/ec/drive-up-diaper-distribution-4/
LOCATION:88 Swinburne St. Pittsburgh\, PA 15213\, 88 Swinburne St.\, Pittsburgh\, PA\, 15213\, United States
CATEGORIES:Health and Wellness,Community
ATTACH;FMTTYPE=image/png:https://www.kidsburgh.org/wp-content/uploads/2021/11/2021.11.6-Drive-Up-Diaper-Distribution-Postcard_Final.png
ORGANIZER;CN="Global%20Links":MAILTO:glvolunteer@globallinks.org
END:VEVENT
END:VCALENDAR