BEGIN:VCALENDAR
VERSION:2.0
PRODID:-//Kidsburgh - ECPv6.0.1.1//NONSGML v1.0//EN
CALSCALE:GREGORIAN
METHOD:PUBLISH
X-WR-CALNAME:Kidsburgh
X-ORIGINAL-URL:https://www.kidsburgh.org
X-WR-CALDESC:Events for Kidsburgh
REFRESH-INTERVAL;VALUE=DURATION:PT1H
X-Robots-Tag:noindex
X-PUBLISHED-TTL:PT1H
BEGIN:VTIMEZONE
TZID:America/New_York
BEGIN:DAYLIGHT
TZOFFSETFROM:-0500
TZOFFSETTO:-0400
TZNAME:EDT
DTSTART:20180311T070000
END:DAYLIGHT
BEGIN:STANDARD
TZOFFSETFROM:-0400
TZOFFSETTO:-0500
TZNAME:EST
DTSTART:20181104T060000
END:STANDARD
END:VTIMEZONE
BEGIN:VEVENT
DTSTART;TZID=America/New_York:20180619T080000
DTEND;TZID=America/New_York:20180810T140000
DTSTAMP:20221005T201108
CREATED:20180129T214236Z
LAST-MODIFIED:20200409T143222Z
UID:42915-1529395200-1533909600@www.kidsburgh.org
SUMMARY:Little Farmers Day Camp at Blue Ribbon Farms
DESCRIPTION:Imagine your child bottle feeding a baby calf or goat\, holding a baby bunny or chick or even a baby pig. How about collecting eggs or making homemade strawberry jam or pickles from the  garden. Let your child be entertained and amazed by the wonders of the farm. It is an experience they will never forget. Blueribbonfarmsinc.com
URL:https://www.kidsburgh.org/ec/little-farmers-day-camp-blue-ribbon-farms/2018-06-19/
LOCATION:384 Cowpath Road  /  Aliquippa\, PA 15001\, Pittsburgh\, PA\, 15222\, United States
CATEGORIES:Community
GEO:40.4475255;-79.9933976
END:VEVENT
END:VCALENDAR