BEGIN:VCALENDAR
VERSION:2.0
PRODID:-//Kidsburgh - ECPv6.0.1.1//NONSGML v1.0//EN
CALSCALE:GREGORIAN
METHOD:PUBLISH
X-WR-CALNAME:Kidsburgh
X-ORIGINAL-URL:https://www.kidsburgh.org
X-WR-CALDESC:Events for Kidsburgh
REFRESH-INTERVAL;VALUE=DURATION:PT1H
X-Robots-Tag:noindex
X-PUBLISHED-TTL:PT1H
BEGIN:VTIMEZONE
TZID:America/New_York
BEGIN:DAYLIGHT
TZOFFSETFROM:-0500
TZOFFSETTO:-0400
TZNAME:EDT
DTSTART:20190310T070000
END:DAYLIGHT
BEGIN:STANDARD
TZOFFSETFROM:-0400
TZOFFSETTO:-0500
TZNAME:EST
DTSTART:20191103T060000
END:STANDARD
END:VTIMEZONE
BEGIN:VEVENT
DTSTART;TZID=America/New_York:20191123T160000
DTEND;TZID=America/New_York:20191123T220000
DTSTAMP:20221005T195028
CREATED:20191022T171307Z
LAST-MODIFIED:20191022T171307Z
UID:55999-1574524800-1574546400@www.kidsburgh.org
SUMMARY:Lumaze: Lost in Lights
DESCRIPTION:Get lost in the lights with your family and friends at Lumaze—a brand new indoor holiday festival set inside the historic 31st Street Studios in the Strip District. Escape the cold weather and enjoy more than 100\,000 sq. feet of family-friendly holiday activities while you laugh\, stroll\, and play under the twinkle of two million festive lights. \nThis year’s theme is “A Fairytale Christmas.” Alongside your favorite Storyland characters\, explore lighted trails and wander through a glowing holiday fairytale and help Santa find all the presents that he’s misplaced. \nLumaze’s illuminated structures offer the perfect backdrop for family photos and #selfies. Interactive activities and festive playgrounds entertain kids for hours\, while adults kick back at licensed bars and enjoy seasonal beverages\, delicious food\, and live music. There also is a holiday market—featuring local artisans and businesses—so you can make your list and check it twice. It’s all the magic and wonder of an outdoor festival\, hosted inside the one-of-a-kind 31st Street Studios.
URL:https://www.kidsburgh.org/ec/lumaze-lost-in-lights/2019-11-23/
LOCATION:31st Street Studios\, 77 31st Street\, Pittsburgh\, PA\, 15201\, United States
ATTACH;FMTTYPE=image/jpeg:https://www.kidsburgh.org/wp-content/uploads/2019/10/V7A2328-web-e1571764876744.jpg
GEO:40.4622669;-79.9729777
X-APPLE-STRUCTURED-LOCATION;VALUE=URI;X-ADDRESS=31st Street Studios 77 31st Street Pittsburgh PA 15201 United States;X-APPLE-RADIUS=500;X-TITLE=77 31st Street:geo:-79.9729777,40.4622669
END:VEVENT
END:VCALENDAR