BEGIN:VCALENDAR
VERSION:2.0
PRODID:-//Kidsburgh - ECPv6.0.1.1//NONSGML v1.0//EN
CALSCALE:GREGORIAN
METHOD:PUBLISH
X-WR-CALNAME:Kidsburgh
X-ORIGINAL-URL:https://www.kidsburgh.org
X-WR-CALDESC:Events for Kidsburgh
REFRESH-INTERVAL;VALUE=DURATION:PT1H
X-Robots-Tag:noindex
X-PUBLISHED-TTL:PT1H
BEGIN:VTIMEZONE
TZID:America/New_York
BEGIN:DAYLIGHT
TZOFFSETFROM:-0500
TZOFFSETTO:-0400
TZNAME:EDT
DTSTART:20190310T070000
END:DAYLIGHT
BEGIN:STANDARD
TZOFFSETFROM:-0400
TZOFFSETTO:-0500
TZNAME:EST
DTSTART:20191103T060000
END:STANDARD
END:VTIMEZONE
BEGIN:VEVENT
DTSTART;TZID=America/New_York:20191231T100000
DTEND;TZID=America/New_York:20191231T130000
DTSTAMP:20221005T194954
CREATED:20191203T183901Z
LAST-MODIFIED:20200409T143744Z
UID:57386-1577786400-1577797200@www.kidsburgh.org
SUMMARY:Cool Springs New Year's Eve Bash!
DESCRIPTION:3001 Cool Springs Dr\, Pittsburgh\, PA 15234This New Year’s Eve Bash is meant for families and children of all ages! The event is from 10am-1pm and we will have a buffet open from 11am-1:30pm. Our field will be open with fun and games for all ages and we will have arts & crafts available. In the true spirit of New Year’s Eve\, we will also have a balloon drop and an apple juice toast at 12pm!
URL:https://www.kidsburgh.org/ec/cool-springs-new-years-eve-bash-2/
LOCATION:3001 Cool Springs Dr\, Pittsburgh\, PA 15234\, 3001 Cool Springs Dr\, PA\, 15234\, United States
ATTACH;FMTTYPE=image/jpeg:https://www.kidsburgh.org/wp-content/uploads/2019/11/CS-NYE_Event-01-e1576779818699.jpg
ORGANIZER;CN="Cool%20Springs%20Sports%20Complex":MAILTO:info@playcoolsprings.com
GEO:40.3538016;-80.0166368
X-APPLE-STRUCTURED-LOCATION;VALUE=URI;X-ADDRESS=3001 Cool Springs Dr Pittsburgh PA 15234 3001 Cool Springs Dr PA 15234 United States;X-APPLE-RADIUS=500;X-TITLE=3001 Cool Springs Dr:geo:-80.0166368,40.3538016
END:VEVENT
END:VCALENDAR