BEGIN:VCALENDAR
VERSION:2.0
PRODID:-//Kidsburgh - ECPv6.0.1.1//NONSGML v1.0//EN
CALSCALE:GREGORIAN
METHOD:PUBLISH
X-ORIGINAL-URL:https://www.kidsburgh.org
X-WR-CALDESC:Events for Kidsburgh
REFRESH-INTERVAL;VALUE=DURATION:PT1H
X-Robots-Tag:noindex
X-PUBLISHED-TTL:PT1H
BEGIN:VTIMEZONE
TZID:America/New_York
BEGIN:DAYLIGHT
TZOFFSETFROM:-0500
TZOFFSETTO:-0400
TZNAME:EDT
DTSTART:20180311T070000
END:DAYLIGHT
BEGIN:STANDARD
TZOFFSETFROM:-0400
TZOFFSETTO:-0500
TZNAME:EST
DTSTART:20181104T060000
END:STANDARD
END:VTIMEZONE
BEGIN:VEVENT
DTSTART;TZID=America/New_York:20180331T103000
DTEND;TZID=America/New_York:20180331T113000
DTSTAMP:20221005T201321
CREATED:20180330T164303Z
LAST-MODIFIED:20200409T142138Z
UID:44091-1522492200-1522495800@www.kidsburgh.org
SUMMARY:HappyFeet Outdoor Soccer Leagues Ages 3-6
DESCRIPTION:The HappyFeet League is an excellent opportunity to see your little one further develop and showcase his/her HappyFeet soccer skills. Our league curriculum maximizes fun and friendship to ensure your child always wants to come back! We have found that parents & grandparents enjoy the league program as much as the kids! \nEach league game is preceded by a 20-25 minute HappyFeet “Mini Class”. During the “Mini Class” your child will enjoy many dribbling and ball striking touches to prepare them for the league game. The league game immediately follows the “Mini Class” and is about 30 minutes in length.
URL:https://www.kidsburgh.org/ec/happyfeet-outdoor-soccer-leagues-ages-3-6/2018-03-31/
LOCATION:22 Rich Hill Rd\, Cheswick\, PA 15024\, Pittsburgh\, PA\, 15222\, United States
CATEGORIES:Health and Wellness,Community
ATTACH;FMTTYPE=image/jpeg:https://www.kidsburgh.org/wp-content/uploads/2018/03/league-background-e1538776079827.jpg
ORGANIZER;CN="HappyFeet%20Pittsburgh":MAILTO:kat@pisausa.com
GEO:40.4475255;-79.9933976
END:VEVENT
END:VCALENDAR