BEGIN:VCALENDAR
VERSION:2.0
PRODID:-//Kidsburgh - ECPv6.0.1.1//NONSGML v1.0//EN
CALSCALE:GREGORIAN
METHOD:PUBLISH
X-ORIGINAL-URL:https://www.kidsburgh.org
X-WR-CALDESC:Events for Kidsburgh
REFRESH-INTERVAL;VALUE=DURATION:PT1H
X-Robots-Tag:noindex
X-PUBLISHED-TTL:PT1H
BEGIN:VTIMEZONE
TZID:America/New_York
BEGIN:DAYLIGHT
TZOFFSETFROM:-0500
TZOFFSETTO:-0400
TZNAME:EDT
DTSTART:20200308T070000
END:DAYLIGHT
BEGIN:STANDARD
TZOFFSETFROM:-0400
TZOFFSETTO:-0500
TZNAME:EST
DTSTART:20201101T060000
END:STANDARD
END:VTIMEZONE
BEGIN:VEVENT
DTSTART;TZID=America/New_York:20200723T100000
DTEND;TZID=America/New_York:20200723T140000
DTSTAMP:20221005T200006
CREATED:20200618T175850Z
LAST-MODIFIED:20200618T175850Z
UID:66224-1595498400-1595512800@www.kidsburgh.org
SUMMARY:Summer Immunization Clinic at Homewood-Brushton YMCA
DESCRIPTION:UPMC Children’s Hospital\, UPMC Children’s Community Pediatrics and Ronald McDonald House Charities of Pittsburgh and Morgantown are partnering to bring needed vaccines\, safely\, to western Pennsylvania communities. In addition to providing vaccinations to children ages 2 months through high school\, staff will assist with WIC form completion. Children who receive immunizations will also receive health and safety information\, kindergarten registration information and activity bags full of at-home activities for summer time.
URL:https://www.kidsburgh.org/ec/summer-immunization-clinic-at-homewood-brushton-ymca-2/
LOCATION:16394\, 7140 Bennett St\, Pittsburgh\, PA\, 15208\, United States
CATEGORIES:Health and Wellness
ATTACH;FMTTYPE=image/jpeg:https://www.kidsburgh.org/wp-content/uploads/2020/06/CM-Flier-Page-1-11-scaled.jpg
GEO:40.4566067;-79.8983418
X-APPLE-STRUCTURED-LOCATION;VALUE=URI;X-ADDRESS=16394 7140 Bennett St Pittsburgh PA 15208 United States;X-APPLE-RADIUS=500;X-TITLE=7140 Bennett St:geo:-79.8983418,40.4566067
END:VEVENT
BEGIN:VEVENT
DTSTART;TZID=America/New_York:20200625T100000
DTEND;TZID=America/New_York:20200625T140000
DTSTAMP:20221005T200006
CREATED:20200618T175746Z
LAST-MODIFIED:20200618T175806Z
UID:66220-1593079200-1593093600@www.kidsburgh.org
SUMMARY:Summer Immunization Clinic at Homewood-Brushton YMCA
DESCRIPTION:UPMC Children’s Hospital\, UPMC Children’s Community Pediatrics and Ronald McDonald House Charities of Pittsburgh and Morgantown are partnering to bring needed vaccines\, safely\, to western Pennsylvania communities. In addition to providing vaccinations to children ages 2 months through high school\, staff will assist with WIC form completion. Children who receive immunizations will also receive health and safety information\, kindergarten registration information and activity bags full of at-home activities for summer time.
URL:https://www.kidsburgh.org/ec/summer-immunization-clinic-at-homewood-brushton-ymca/
LOCATION:16394\, 7140 Bennett St\, Pittsburgh\, PA\, 15208\, United States
CATEGORIES:Health and Wellness
ATTACH;FMTTYPE=image/jpeg:https://www.kidsburgh.org/wp-content/uploads/2020/06/CM-Flier-Page-1-10-scaled.jpg
GEO:40.4566067;-79.8983418
X-APPLE-STRUCTURED-LOCATION;VALUE=URI;X-ADDRESS=16394 7140 Bennett St Pittsburgh PA 15208 United States;X-APPLE-RADIUS=500;X-TITLE=7140 Bennett St:geo:-79.8983418,40.4566067
END:VEVENT
END:VCALENDAR