BEGIN:VCALENDAR
VERSION:2.0
PRODID:-//Kidsburgh - ECPv6.0.1.1//NONSGML v1.0//EN
CALSCALE:GREGORIAN
METHOD:PUBLISH
X-ORIGINAL-URL:https://www.kidsburgh.org
X-WR-CALDESC:Events for Kidsburgh
REFRESH-INTERVAL;VALUE=DURATION:PT1H
X-Robots-Tag:noindex
X-PUBLISHED-TTL:PT1H
BEGIN:VTIMEZONE
TZID:America/New_York
BEGIN:DAYLIGHT
TZOFFSETFROM:-0500
TZOFFSETTO:-0400
TZNAME:EDT
DTSTART:20220313T070000
END:DAYLIGHT
BEGIN:STANDARD
TZOFFSETFROM:-0400
TZOFFSETTO:-0500
TZNAME:EST
DTSTART:20221106T060000
END:STANDARD
END:VTIMEZONE
BEGIN:VEVENT
DTSTART;TZID=America/New_York:20221001T100000
DTEND;TZID=America/New_York:20221001T120000
DTSTAMP:20221005T194720
CREATED:20220830T001646Z
LAST-MODIFIED:20220830T001646Z
UID:94637-1664618400-1664625600@www.kidsburgh.org
SUMMARY:FlyBy 5K and 2-Mile Fun Run/Walk presented by CNX Resources
DESCRIPTION:The FlyBy 5K and 2-Mile Fun Run/Walk presented by CNX Resources is a one-of-a-kind event for the whole family! This unique course lets participants run through the airfield and taxiways of Pittsburgh International Airport\, taking them past aircraft parked along the runway and showing them a side of the airport few get to see. \nBoth courses are stroller-friendly\, and children younger than 4 years old can register for free. \nAll participants receive a race shirt and finisher medal.
URL:https://www.kidsburgh.org/ec/flyby-5k-and-2-mile-fun-run-walk-presented-by-cnx-resources-2/
LOCATION:100 Airline Drive\, 100 Airline Drive\, Corapolis\, PA\, 15108\, United States
CATEGORIES:Health and Wellness
ATTACH;FMTTYPE=image/png:https://www.kidsburgh.org/wp-content/uploads/2022/08/FLy-by-5k.png
END:VEVENT
END:VCALENDAR