BEGIN:VCALENDAR
VERSION:2.0
PRODID:-//Kidsburgh - ECPv6.0.1.1//NONSGML v1.0//EN
CALSCALE:GREGORIAN
METHOD:PUBLISH
X-WR-CALNAME:Kidsburgh
X-ORIGINAL-URL:https://www.kidsburgh.org
X-WR-CALDESC:Events for Kidsburgh
REFRESH-INTERVAL;VALUE=DURATION:PT1H
X-Robots-Tag:noindex
X-PUBLISHED-TTL:PT1H
BEGIN:VTIMEZONE
TZID:America/New_York
BEGIN:DAYLIGHT
TZOFFSETFROM:-0500
TZOFFSETTO:-0400
TZNAME:EDT
DTSTART:20210314T070000
END:DAYLIGHT
BEGIN:STANDARD
TZOFFSETFROM:-0400
TZOFFSETTO:-0500
TZNAME:EST
DTSTART:20211107T060000
END:STANDARD
BEGIN:DAYLIGHT
TZOFFSETFROM:-0500
TZOFFSETTO:-0400
TZNAME:EDT
DTSTART:20220313T070000
END:DAYLIGHT
BEGIN:STANDARD
TZOFFSETFROM:-0400
TZOFFSETTO:-0500
TZNAME:EST
DTSTART:20221106T060000
END:STANDARD
END:VTIMEZONE
BEGIN:VEVENT
DTSTART;TZID=America/New_York:20210920T160000
DTEND;TZID=America/New_York:20220617T183000
DTSTAMP:20221005T211739
CREATED:20210921T165234Z
LAST-MODIFIED:20210928T084041Z
UID:82731-1632153600-1655490600@www.kidsburgh.org
SUMMARY:ProjectArt
DESCRIPTION:a\, \,ProjectArt is offering free\, live\, online\, after school classes for Pittsburgh youth. \nENROLL HERE \nAbout the program  \n\nProjectArt’s resident artists teach tuition-free classes to children 4-18 years old\, in partnership with public libraries\n30 weeks of live online classes from September 20\, 2021  to June 17\, 2022\nArt projects range from drawing and painting to collage and sculpture.\nThis fall classes will take place via Zoom.\nAll students receive a kit of free art materials which allow them to participate virtually.
URL:https://www.kidsburgh.org/ec/projectart/2021-09-20/
LOCATION:Online
CATEGORIES:Arts and Culture,Education,Community,Remake Learning
ATTACH;FMTTYPE=image/jpeg:https://www.kidsburgh.org/wp-content/uploads/2021/09/Dmitri-Wild_Cypress-Hills6-scaled.jpeg
ORGANIZER;CN="ProjectArt":MAILTO:pedrovin@projectart.org
END:VEVENT
BEGIN:VEVENT
DTSTART;TZID=America/New_York:20220317T090000
DTEND;TZID=America/New_York:20220731T173000
DTSTAMP:20221005T211739
CREATED:20220329T110158Z
LAST-MODIFIED:20220329T110158Z
UID:89493-1647507600-1659288600@www.kidsburgh.org
SUMMARY:Teen Shopping Study
DESCRIPTION:The RAND Corporation\, in Pittsburgh\, is researching youth’s purchasing habits at convenience stores. Teens ages 11-17 and who have not previously participated are eligible to participate. Participation in our study requires participants to complete a 30 minute web survey and a 90 minute in-person session with parents/guardians present. Participants will receive gift cards totaling $40 for participating in the study. Parents will also receive bus reimbursement or parking reimbursement. \nIf you’re interested in signing up\, please call our study line 412-204-7353 Monday through Friday\, 9am-5pm\, or email us at c-storestudy@rand.org!
URL:https://www.kidsburgh.org/ec/teen-shopping-study/
LOCATION:Design Center @ Baum Blvd\, 5001 Baum Blvd\, Suite 650\, Pittsburgh\, 15213\, United States
CATEGORIES:Science and Technology,Education,Community
ATTACH;FMTTYPE=image/jpeg:https://www.kidsburgh.org/wp-content/uploads/2022/03/teen-study.jpg
END:VEVENT
BEGIN:VEVENT
DTSTART;TZID=America/New_York:20220519T180000
DTEND;TZID=America/New_York:20220611T200000
DTSTAMP:20221005T211739
CREATED:20220426T213903Z
LAST-MODIFIED:20220426T213903Z
UID:91121-1652983200-1654977600@www.kidsburgh.org
SUMMARY:Homewood Children’s Village Presents: HCV Cooks
DESCRIPTION:Homewood Children’s Village Presents: HCV Cooks [Maker|Science]\nThurs\, May 19\, 6:00-8:00pm\nAges: All Ages\nHosted by: Homewood Children’s Village\nPrice: $1-$10\nWhisk up a nutritious and fun dish with HCV cooks! \n\nHomewood Children’s Village Presents: HCV Cooks
URL:https://www.kidsburgh.org/ec/homewood-childrens-village-presents-hcv-cooks/
LOCATION:Homewood Children’s Village\, 801 N Homewood Ave\, Pittsburgh\, PA\, 15208\, United States
CATEGORIES:Education,Community,Remake Learning
ATTACH;FMTTYPE=image/jpeg:https://www.kidsburgh.org/wp-content/uploads/2022/04/05-19-2022_pa-southwestern_rrobinson-scaled.jpg
GEO:40.4566413;-79.8969158
X-APPLE-STRUCTURED-LOCATION;VALUE=URI;X-ADDRESS=Homewood Children’s Village 801 N Homewood Ave Pittsburgh PA 15208 United States;X-APPLE-RADIUS=500;X-TITLE=801 N Homewood Ave:geo:-79.8969158,40.4566413
END:VEVENT
BEGIN:VEVENT
DTSTART;TZID=America/New_York:20220603T080000
DTEND;TZID=America/New_York:20220612T170000
DTSTAMP:20221005T211739
CREATED:20220531T154144Z
LAST-MODIFIED:20220531T154144Z
UID:92506-1654243200-1655053200@www.kidsburgh.org
SUMMARY:Three Rivers Arts Festival
DESCRIPTION:10 DAYS OF FREE\n\n\nART + MUSIC\n\n\nJUNE 3-12\, 2022
URL:https://www.kidsburgh.org/ec/three-rivers-arts-festival/
LOCATION:Downtown
CATEGORIES:Arts and Culture,Community
ATTACH;FMTTYPE=image/jpeg:https://www.kidsburgh.org/wp-content/uploads/2022/05/pj0gmjc31nqmcuvz0mlred8ml3f4.jpg
ORGANIZER;CN="Pittsburgh%20Cultural%20Trust":MAILTO:education@trustarts.org
END:VEVENT
BEGIN:VEVENT
DTSTART;TZID=America/New_York:20220603T170000
DTEND;TZID=America/New_York:20220605T180000
DTSTAMP:20221005T211739
CREATED:20220525T173918Z
LAST-MODIFIED:20220525T174001Z
UID:92182-1654275600-1654452000@www.kidsburgh.org
SUMMARY:The Adaptive Dance Series
DESCRIPTION:Please join Attack Theatre for year two of The Adaptive Dance Series (June 3-5\, 2022) – a virtual weekend of FREE dance workshops designed specifically for children and adults with emotional\, cognitive\, and physical disabilities presented by Attack Theatre\, ComMotion\, Joey’s P.A.W.\, and Yes\, You Can Dance. \nNEW this year: we welcome pets and animal friends….creatures big and small\, furry or hairy….to come and shake a tail feather. \nRegardless of previous dance experience\, participants will gain a unique virtual experience through adaptive movement workshops. \nThis weekend series includes a kick-off information session on Friday at 5:00pm\, an entire day of workshops on Saturday\, and three afternoon workshops on Sunday finishing with special guest speakers\, Tanya and Boone of Joey’s P.A.W.\, at 4:00pm (@a.miracle.named.Boone). Everything will take place through Zoom. \nFor registration information and a full schedule visit: https://www.attacktheatre.com/ads \nAny questions or accommodations\, email Allison Popieski at: allison@attacktheatre.com.
URL:https://www.kidsburgh.org/ec/the-adaptive-dance-series/
LOCATION:Virtual Event (no location)
CATEGORIES:Arts and Culture,Education,Community
ATTACH;FMTTYPE=image/png:https://www.kidsburgh.org/wp-content/uploads/2022/05/thumbnail_2022_ADS_Banner_TitleTop_WithDescription.png
ORGANIZER;CN="Attack%20Theatre":MAILTO:contact@attacktheatre.com
GEO:40.4475255;-79.9933976
END:VEVENT
BEGIN:VEVENT
DTSTART;TZID=America/New_York:20220605T090000
DTEND;TZID=America/New_York:20220605T150000
DTSTAMP:20221005T211739
CREATED:20220531T133236Z
LAST-MODIFIED:20220531T133236Z
UID:92315-1654419600-1654441200@www.kidsburgh.org
SUMMARY:Pittsburgh Reptile Show & Sale June 5th 2022
DESCRIPTION:Pittsburgh Reptile Show & Sale \nJune 5th 2022 @ The Harmar House 1321 Freeport rd. Cheswick Pa 15024 \n724-516-0441 More info www.PAreptile.com \nAt our Expo vendors will bring a large selection of reptiles\, amphibians\, birds\, inverts\, small & furry friends\, feeders\, supplies\, and more. Guests will have the opportunity to learn about\, see\, or purchase animals not normally seen in local pet shops. Vendors are always willing to teach guests about their animals and many of our vendors allow live hands on interactions with their animals. Guest can shop for their new family pet among the thousands of exotic animals at the event. Reptiroots events are also the perfect place to get discounted merchandise\, cages\, supplies\, and both live and frozen feeders\, for your pets. \nMeet up with other animal lovers who share your passion\, explore different tables\, and chat with different breeders.
URL:https://www.kidsburgh.org/ec/pittsburgh-reptile-show-sale-june-5th-2022/
LOCATION:Harmar  House\, 1321 Freeport rd\, Cheswick\, PA\, 15024\, United States
CATEGORIES:Arts and Culture,Education,Community
ATTACH;FMTTYPE=image/jpeg:https://www.kidsburgh.org/wp-content/uploads/2022/05/Reptile.jpg
ORGANIZER;CN="ReptiRoots%20Reptile%20Expos":MAILTO:pghreptileshow@gmail.com
END:VEVENT
BEGIN:VEVENT
DTSTART;TZID=America/New_York:20220605T140000
DTEND;TZID=America/New_York:20220605T150000
DTSTAMP:20221005T211739
CREATED:20220520T204121Z
LAST-MODIFIED:20220520T204121Z
UID:91503-1654437600-1654441200@www.kidsburgh.org
SUMMARY:The Fabulous High Flying Guaraldi Brothers
DESCRIPTION:Join us for a fun\, sensory friendly concert by Azure Family Concerts Pittsburgh\, where all behaviors are welcome. This event features jazz pianist Tom Roberts and drummer Dave Klug playing music from Charlie Brown and Peanuts. Dave is also an award winning cartoonist\, so if you’d like to try your hand at drawing Charlie Brown & friends\, you’ll get some pro tips at the concert as well. As always\, there will be an instrument petting zoo following the performance. All Behaviors Welcome! Reserve your FREE tickets at our website azurepittsburgh.org/events
URL:https://www.kidsburgh.org/ec/the-fabulous-high-flying-guaraldi-brothers/
LOCATION:Schenley Plaza Tent
CATEGORIES:Arts and Culture,Advocacy,Community
ATTACH;FMTTYPE=image/jpeg:https://www.kidsburgh.org/wp-content/uploads/2022/05/June-5-Azure-Poster-scaled.jpg
ORGANIZER;CN="Azure%20Family%20Concerts%20Pittsburgh":MAILTO:azurepittsburgh@gmail.com
END:VEVENT
BEGIN:VEVENT
DTSTART;TZID=America/New_York:20220605T140000
DTEND;TZID=America/New_York:20220605T150000
DTSTAMP:20221005T211739
CREATED:20220520T204321Z
LAST-MODIFIED:20220520T204321Z
UID:91506-1654437600-1654441200@www.kidsburgh.org
SUMMARY:The Fabulous High Flying Guaraldi Brothers
DESCRIPTION:Join us for a fun\, sensory friendly concert by Azure Family Concerts Pittsburgh\, where all behaviors are welcome. This event features jazz pianist Tom Roberts and drummer Dave Klug playing music from Charlie Brown and Peanuts. Dave is also an award winning cartoonist\, so if you’d like to try your hand at drawing Charlie Brown & friends\, you’ll get some pro tips at the concert as well. As always\, there will be an instrument petting zoo following the performance. All Behaviors Welcome! Reserve your FREE tickets at our website azurepittsburgh.org/events
URL:https://www.kidsburgh.org/ec/the-fabulous-high-flying-guaraldi-brothers-2/
LOCATION:Schenley Plaza Tent
CATEGORIES:Arts and Culture,Advocacy,Community
ATTACH;FMTTYPE=image/jpeg:https://www.kidsburgh.org/wp-content/uploads/2022/05/e0c4ca_ed10be0b984343bda6360e7e84e0d05c_mv2.jpeg
END:VEVENT
BEGIN:VEVENT
DTSTART;TZID=America/New_York:20220605T193000
DTEND;TZID=America/New_York:20220605T213000
DTSTAMP:20221005T211739
CREATED:20220531T142350Z
LAST-MODIFIED:20220531T142905Z
UID:92428-1654457400-1654464600@www.kidsburgh.org
SUMMARY:Summer Concert Series
DESCRIPTION:All concerts are FREE and begin at 7:30 pm unless otherwise noted. \nFood trucks (Black Dog Winery and Hop Farm Brewing Company craft beer) will be on-site at all concerts starting at 6:00 pm. \nAll concerts take place rain or shine at open-air amphitheaters with no covered seating. \nFor updated information on concerts\, follow us on Facebook and Twitter or sign up for Allegheny Alerts.
URL:https://www.kidsburgh.org/ec/summer-concert-series/2022-06-05/
LOCATION:Hartwood Acres Park Amphitheater\, United States
CATEGORIES:Arts and Culture,Community
ATTACH;FMTTYPE=image/jpeg:https://www.kidsburgh.org/wp-content/uploads/2022/05/SummerConcerts-2022-Logo.jpg
ORGANIZER;CN="Allegheny%20County%20Parks":MAILTO:Webmaster.Parks@alleghenycounty.us
GEO:37.09024;-95.712891
END:VEVENT
BEGIN:VEVENT
DTSTART;TZID=America/New_York:20220607T080000
DTEND;TZID=America/New_York:20220607T120000
DTSTAMP:20221005T211739
CREATED:20220531T133412Z
LAST-MODIFIED:20220531T133412Z
UID:92247-1654588800-1654603200@www.kidsburgh.org
SUMMARY:August Wilson Park Volunteer Event
DESCRIPTION:Join your friends at the Pittsburgh Parks Conservancy for monthly stewardship events in August Wilson Park! Tasks include pulling weeds and general maintenance assignments to help care for your neighborhood park. Register below! \nJune 7: http://support.pittsburghparks.org/site/Calendar?id=102661&view=Detail \nJuly 5: http://support.pittsburghparks.org/site/Calendar?id=102662&view=Detail \nJuly 26: http://support.pittsburghparks.org/site/Calendar?id=102663&view=Detail \nAugust 9: http://support.pittsburghparks.org/site/Calendar?id=102664&view=Detail \nAugust 30: http://support.pittsburghparks.org/site/Calendar?id=102664&view=Detail \nSeptember 13: http://support.pittsburghparks.org/site/Calendar?id=102666&view=Detail
URL:https://www.kidsburgh.org/ec/august-wilson-park-volunteer-event/
LOCATION:August Wilson Park\, 1801 Cliff Street\, Pittsburgh\, PA\, 15219\, United States
CATEGORIES:Community
ATTACH;FMTTYPE=image/jpeg:https://www.kidsburgh.org/wp-content/uploads/2022/05/854e9649-dfdf-4e34-aaa7-28b00db63c24.jpeg
GEO:40.4463475;-79.9855074
X-APPLE-STRUCTURED-LOCATION;VALUE=URI;X-ADDRESS=August Wilson Park 1801 Cliff Street Pittsburgh PA 15219 United States;X-APPLE-RADIUS=500;X-TITLE=1801 Cliff Street:geo:-79.9855074,40.4463475
END:VEVENT
BEGIN:VEVENT
DTSTART;TZID=America/New_York:20220607T110000
DTEND;TZID=America/New_York:20221025T140000
DTSTAMP:20221005T211739
CREATED:20220531T133456Z
LAST-MODIFIED:20220531T133532Z
UID:92242-1654599600-1666706400@www.kidsburgh.org
SUMMARY:Table-Top Tuesday
DESCRIPTION:Enjoy a selection of free and classic table-top games in Schenley Plaza every Tuesday through October! Games are available on a first come basis. No registration required.
URL:https://www.kidsburgh.org/ec/table-top-tuesday/2022-06-07/
LOCATION:Schenley Plaza\, 4100 Forbes Ave\, Pittsburgh\, PA\, 15260\, United States
CATEGORIES:Community
ATTACH;FMTTYPE=image/jpeg:https://www.kidsburgh.org/wp-content/uploads/2022/05/download.jpeg
GEO:40.4435295;-79.9521286
X-APPLE-STRUCTURED-LOCATION;VALUE=URI;X-ADDRESS=Schenley Plaza 4100 Forbes Ave Pittsburgh PA 15260 United States;X-APPLE-RADIUS=500;X-TITLE=4100 Forbes Ave:geo:-79.9521286,40.4435295
END:VEVENT
BEGIN:VEVENT
DTSTART;TZID=America/New_York:20220608T193000
DTEND;TZID=America/New_York:20220608T193000
DTSTAMP:20221005T211739
CREATED:20220531T150334Z
LAST-MODIFIED:20220531T150334Z
UID:92476-1654716600-1654716600@www.kidsburgh.org
SUMMARY:Drive-In Movies at Hartwood
DESCRIPTION:Join us this summer at Hartwood Acres Park on Wednesday evenings for our Family Fun Drive-In Movie Series! \nGates open at 7:30 pm and the show will start at dusk. Gates will close when the movie starts. \nAll movies are free and will be first-come first-served! Capacity is limited to 300 vehicles per movie. Once the parking area reaches capacity\, we will announce on our Facebook Page and Allegheny Alerts.
URL:https://www.kidsburgh.org/ec/drive-in-movies-at-hartwood/2022-06-08/
LOCATION:Hartwood Acres Park Amphitheater\, United States
CATEGORIES:Community
ATTACH;FMTTYPE=image/jpeg:https://www.kidsburgh.org/wp-content/uploads/2022/05/14683_Cinema-in-the-Park-Hero-1.jpg
ORGANIZER;CN="Allegheny%20County%20Parks":MAILTO:Webmaster.Parks@alleghenycounty.us
GEO:37.09024;-95.712891
END:VEVENT
BEGIN:VEVENT
DTSTART;TZID=America/New_York:20220609T180000
DTEND;TZID=America/New_York:20220609T190000
DTSTAMP:20221005T211739
CREATED:20220531T133702Z
LAST-MODIFIED:20220531T133702Z
UID:92251-1654797600-1654801200@www.kidsburgh.org
SUMMARY:Plant Walk with Community Herbalist\, Annie Fox
DESCRIPTION:On this walk\, we will learn how to identify local edible and medicinal plants\, review safe and ethical foraging practices\, and connect with the plant life of our region. Participants may want to bring a notebook and water bottle (both optional).
URL:https://www.kidsburgh.org/ec/plant-walk-with-community-herbalist-annie-fox-2/
LOCATION:McKinley Park\, Beltzhoover\, Pittsburgh\, PA\, United States
CATEGORIES:Science and Technology,Health and Wellness,Community
ATTACH;FMTTYPE=image/jpeg:https://www.kidsburgh.org/wp-content/uploads/2022/05/thumbnail-1-1.jpeg
GEO:40.4157077;-80.0045811
X-APPLE-STRUCTURED-LOCATION;VALUE=URI;X-ADDRESS=McKinley Park Beltzhoover Pittsburgh PA United States;X-APPLE-RADIUS=500;X-TITLE=Beltzhoover:geo:-80.0045811,40.4157077
END:VEVENT
BEGIN:VEVENT
DTSTART;TZID=America/New_York:20220610T170000
DTEND;TZID=America/New_York:20220610T180000
DTSTAMP:20221005T211739
CREATED:20220520T204549Z
LAST-MODIFIED:20220520T204549Z
UID:91342-1654880400-1654884000@www.kidsburgh.org
SUMMARY:PPC's Juneteenth From Slavery to Freedom Garden Tour
DESCRIPTION:Honor Juneteenth with a tour of the From Slavery to Freedom Garden at the Frick Environmental Center. Coming from Africa to the United States\, the enslaved were unfamiliar with their new environment\, yet found resources and amassed knowledge of the new land. This proved essential for survival and was a key element of the journey from slavery to freedom. Take a tour of the From Slavery To Freedom Garden – an outdoor extension of the Heinz History Center’s From Slavery to Freedom exhibit and a space to explore the connection between freedom seekers and the land. \n  \nPlease note that in the event of rain\, the tour will be moved to June 12\, 2022.
URL:https://www.kidsburgh.org/ec/ppcs-juneteenth-from-slavery-to-freedom-garden-tour/
LOCATION:Frick Environmental Center\, 2005 Beechwood Boulevard\, Pittsburgh\, PA\, 15217\, United States
CATEGORIES:Community
ATTACH;FMTTYPE=image/png:https://www.kidsburgh.org/wp-content/uploads/2022/05/Juneteenth_Banneer-1.png
GEO:40.4359684;-79.9090814
X-APPLE-STRUCTURED-LOCATION;VALUE=URI;X-ADDRESS=Frick Environmental Center 2005 Beechwood Boulevard Pittsburgh PA 15217 United States;X-APPLE-RADIUS=500;X-TITLE=2005 Beechwood Boulevard:geo:-79.9090814,40.4359684
END:VEVENT
BEGIN:VEVENT
DTSTART;TZID=America/New_York:20220610T180000
DTEND;TZID=America/New_York:20220610T200000
DTSTAMP:20221005T211739
CREATED:20220520T210033Z
LAST-MODIFIED:20220520T210033Z
UID:91340-1654884000-1654891200@www.kidsburgh.org
SUMMARY:PPC's Juneteenth Concert
DESCRIPTION:Honor Juneteenth with a concert in Frick Park! Pre-register your spot in the park to catch live\, local music! Featuring local artists\, Sierra Sellars and Chandra Rhyme\, celebrate Juneteenth in your local park. This concert is powered by solar energy from sustainable energy partner\, ZeroFossil. Please register in advance for yourself and invite your friends! Social Distancing and masks will be encouraged. Don’t forget to bring a blanket and a picnic!\nThis event will take place on the lawn of the Frick Environmental Center. Please note that in the event of rain\, the concert will be moved to June 12\, 2022.
URL:https://www.kidsburgh.org/ec/ppcs-juneteenth-concert/
LOCATION:Frick Environmental Center\, 2005 Beechwood Boulevard\, Pittsburgh\, PA\, 15217\, United States
CATEGORIES:Community
ATTACH;FMTTYPE=image/png:https://www.kidsburgh.org/wp-content/uploads/2022/05/Juneteenth_Banneer.png
GEO:40.4359684;-79.9090814
X-APPLE-STRUCTURED-LOCATION;VALUE=URI;X-ADDRESS=Frick Environmental Center 2005 Beechwood Boulevard Pittsburgh PA 15217 United States;X-APPLE-RADIUS=500;X-TITLE=2005 Beechwood Boulevard:geo:-79.9090814,40.4359684
END:VEVENT
BEGIN:VEVENT
DTSTART;TZID=America/New_York:20220611T103000
DTEND;TZID=America/New_York:20220611T110000
DTSTAMP:20221005T211739
CREATED:20220520T215014Z
LAST-MODIFIED:20220520T215014Z
UID:92025-1654943400-1654945200@www.kidsburgh.org
SUMMARY:Storytime: Family Fun
DESCRIPTION:Join us for stories\, songs and action rhymes. Designed to engage children ages birth to 5 years\, Family Fun storytimes provide an opportunity for a shared library experience for babies\, toddlers\, preschoolers and their grownups. During this 30 minute program\, families will meet new friends and develop early literacy skills. For children ages birth to five years and their caregivers.
URL:https://www.kidsburgh.org/ec/storytime-family-fun/
LOCATION:Carnegie Library of Pittsburgh\, Pittsburgh\, PA\, 15222\, United States
CATEGORIES:Arts and Culture
ORGANIZER;CN="Carnegie%20Library%20of%20Pittsburgh%20-%20Library%20for%20the%20Blind%20and%20Physically%20Handicapped":MAILTO:lbph@carnegielibrary.org
END:VEVENT
BEGIN:VEVENT
DTSTART;TZID=America/New_York:20220611T110000
DTEND;TZID=America/New_York:20220611T170000
DTSTAMP:20221005T211739
CREATED:20220520T213456Z
LAST-MODIFIED:20220520T213456Z
UID:92021-1654945200-1654966800@www.kidsburgh.org
SUMMARY:Hip-Hop Camp
DESCRIPTION:The August Wilson African American Cultural Center is proud to present its last Hip-Hop camp sessions with Hip-Hop Camp: My Name My Place Street Art and Graffiti Workshop. These sessions will be led by educator\, DS Kinsel. The purpose of this camp will be to educate students on the history and significance of graffiti art and its role in Hip-Hop Culture\, Black History\, and Public Art. Students will be able to use their creativity to explore this topic and create their own temporary street art project and tag name. Registration includes two sessions will take place at the August Wilson African American Cultural Center on June 11th and June 25th in our studio.
URL:https://www.kidsburgh.org/ec/hip-hop-camp/
LOCATION:August Wilson African American Cultural Center\, 980 Liberty Ave\, Pittsburgh\, PA\, 15222\, United States
CATEGORIES:Arts and Culture
ATTACH;FMTTYPE=image/jpeg:https://www.kidsburgh.org/wp-content/uploads/2022/05/hip-hp-camp.jpg
ORGANIZER;CN="August%20Wilson%20Center":MAILTO:info@aacc-awc.org
GEO:40.4434275;-79.9955118
X-APPLE-STRUCTURED-LOCATION;VALUE=URI;X-ADDRESS=August Wilson African American Cultural Center 980 Liberty Ave Pittsburgh PA 15222 United States;X-APPLE-RADIUS=500;X-TITLE=980 Liberty Ave:geo:-79.9955118,40.4434275
END:VEVENT
END:VCALENDAR