BEGIN:VCALENDAR
VERSION:2.0
PRODID:-//Kidsburgh - ECPv6.0.1.1//NONSGML v1.0//EN
CALSCALE:GREGORIAN
METHOD:PUBLISH
X-WR-CALNAME:Kidsburgh
X-ORIGINAL-URL:https://www.kidsburgh.org
X-WR-CALDESC:Events for Kidsburgh
REFRESH-INTERVAL;VALUE=DURATION:PT1H
X-Robots-Tag:noindex
X-PUBLISHED-TTL:PT1H
BEGIN:VTIMEZONE
TZID:America/New_York
BEGIN:DAYLIGHT
TZOFFSETFROM:-0500
TZOFFSETTO:-0400
TZNAME:EDT
DTSTART:20190310T070000
END:DAYLIGHT
BEGIN:STANDARD
TZOFFSETFROM:-0400
TZOFFSETTO:-0500
TZNAME:EST
DTSTART:20191103T060000
END:STANDARD
BEGIN:DAYLIGHT
TZOFFSETFROM:-0500
TZOFFSETTO:-0400
TZNAME:EDT
DTSTART:20200308T070000
END:DAYLIGHT
BEGIN:STANDARD
TZOFFSETFROM:-0400
TZOFFSETTO:-0500
TZNAME:EST
DTSTART:20201101T060000
END:STANDARD
BEGIN:DAYLIGHT
TZOFFSETFROM:-0500
TZOFFSETTO:-0400
TZNAME:EDT
DTSTART:20210314T070000
END:DAYLIGHT
BEGIN:STANDARD
TZOFFSETFROM:-0400
TZOFFSETTO:-0500
TZNAME:EST
DTSTART:20211107T060000
END:STANDARD
BEGIN:DAYLIGHT
TZOFFSETFROM:-0500
TZOFFSETTO:-0400
TZNAME:EDT
DTSTART:20220313T070000
END:DAYLIGHT
BEGIN:STANDARD
TZOFFSETFROM:-0400
TZOFFSETTO:-0500
TZNAME:EST
DTSTART:20221106T060000
END:STANDARD
END:VTIMEZONE
BEGIN:VEVENT
DTSTART;TZID=America/New_York:20221001T120000
DTEND;TZID=America/New_York:20221001T160000
DTSTAMP:20221005T220521
CREATED:20220929T170739Z
LAST-MODIFIED:20220929T170739Z
UID:96408-1664625600-1664640000@www.kidsburgh.org
SUMMARY:Arts on the Porch for AWCommunity Day
DESCRIPTION:Join the August Wilson African American Center and Hazelwood Local on RIDC’s Mill 19 South Porch for a FREE day celebrating the Arts.\nAWCommunity Day is a family-friendly event that features local vendors\, artisans\, performers\, bites & sips\, and community camaraderie. Come join us in this unique space to enjoy live music\, theater\, art\, and more!\nOctober’s event will include performances by: \n12:00 PM: YMCA Lighthouse Project Alum\n1:00 PM: DeMaskus Theater Company\n2:00 PM: Yoga with Quest the Yogi\n2:30 PM: Savannah Shantell\n3:15 PM: FLOW Band\n12:00pm – 4:00 PM: “Live Painting” with AmunRay the Artist & Tunes from DJ KB \n*Accessibility considerations: ASL interpreter provided. The performance area of the event is concrete and wheelchair accessible. The vendor and food spaces are packed gravel and grass. \nLive art demonstrations and hands-on activities:\nGlass Blowing with Pittsburgh Glass Center Hot Wheels\nPuppet workshop from Assemble Pittsburgh\nEdible Art – Cookie Decorating with Community Kitchen PGH\nFace Painting by Beanie Paints\nPrintmaking with the Andy Warhol Museum \nFood and Retail Vendors:\nRashod X. Brown – painter\nCeleta Hickman – jewelry\, cards\, & more\nCherish La’More – jewelry\, candles\, sage\, & herbal teas\nOff Route Art – paintings & prints\nJessica Gurley – t-shirts & more\nAshtree Meadows Art – wood burns & dried flowers\nWhite Whale Bookstore – books & prints\nAll Hail the Hips – clothing\nDesi Wiley Art – resin & clay art\nSheila Squillante – paintings\nFoxy Frans Food Truck\nSips Mobile Bar\nHazel Grove Brewery\nCommunity Kitchen PGH \nFree street and lot parking is available at Hazelwood Green. There is also a PRT stop\, but be sure to confirm the weekend schedule from and to your location. \nAWCommunity Day is a quarterly event that is proudly sponsored by UPMC and UPMC Health Plan. Sponsor partners of AWCommunity Day Fall Edition include Duolingo and Dollar Bank.
URL:https://www.kidsburgh.org/ec/arts-on-the-porch-for-awcommunity-day-2/
LOCATION:Hazelwood Green\, Lytle St & Eliza St\, Pittsburgh\, 15207
CATEGORIES:Arts and Culture
ATTACH;FMTTYPE=image/jpeg:https://www.kidsburgh.org/wp-content/uploads/2022/09/Arts-on-the-Porch-Eventbrite.jpg
END:VEVENT
BEGIN:VEVENT
DTSTART;TZID=America/New_York:20220901T120000
DTEND;TZID=America/New_York:20220901T160000
DTSTAMP:20221005T220521
CREATED:20220906T121948Z
LAST-MODIFIED:20220906T121948Z
UID:95172-1662033600-1662048000@www.kidsburgh.org
SUMMARY:Arts on the Porch for AWCommunity Day
DESCRIPTION:Free\, Family-Friendly Arts Celebration with Live Performances\, Art Demonstrations\, Crafts\, & More! \nJoin the August Wilson African American Center and Hazelwood Local on RIDC’s Mill 19 South Porch for a FREE day celebrating the Arts. \nAWCommunity Day is a family-friendly event that features local vendors\, artisans\, performers\, bites & sips\, and community camaraderie. Come join us in this unique space to enjoy live music\, theater\, art\, and more! \nOctober’s event will include performances by:\nDeMaskus Theater Company\nFLOW Band\nQuest the Yogi\nDJ KB\nand more! \n*Accessibility considerations: ASL interpreter provided. The performance area of the event is concrete and wheelchair accessible. The vendor and food spaces are packed gravel and grass. \nLive art demonstrations and hands-on activities:\nGlass Blowing with Pittsburgh Glass Center Hot Wheels\nArt Welding with Industrial Arts Workshop\nPuppet workshop from Assemble Pittsburgh\nEdible Art – Cookie Decorating with Community Kitchen PGH\nFace Painting by Beanie Paints\nPrintmaking with the Andy Warhol Museum \nFood and Retail Vendors:\nRashod X. Brown – painter\nCeleta Hickman – jewelry\, cards\, & more\nDonna Lee McCallum – custom cards\nCherish La’More – jewelry\, candles\, sage\, & herbal teas\nOff Route Art – paintings & prints\nAshtree Meadows Art – wood burns & dried flowers\nAngel in Flesh – candles & beeswax art\nWhite Whale Bookstore – books & prints\nAll Hail the Hips – clothing\nDesi Wiley Art – resin & clay art\nSheila Squillante – paintings\nFoxy Frans Food Truck\nSips Mobile Bar\nHazel Grove Brewery\nCommunity Kitchen PGH \nFree street and lot parking is available at Hazelwood Green. There is also a PRT stop\, but be sure to confirm the weekend schedule from and to your location. \nAWCommunity Day is a quarterly event that is proudly sponsored by UPMC and UPMC Health Plan. Sponsor partners of AWCommunity Day Fall Edition include Duolingo and Dollar Bank.
URL:https://www.kidsburgh.org/ec/arts-on-the-porch-for-awcommunity-day/
LOCATION:South Porch Mill 19\, 4501 Lytle St.\, Pittsburgh\, PA\, 15207\, United States
CATEGORIES:Arts and Culture
ATTACH;FMTTYPE=image/jpeg:https://www.kidsburgh.org/wp-content/uploads/2022/08/Arts-on-the-Porch-Eventbrite.jpg
END:VEVENT
BEGIN:VEVENT
DTSTART;TZID=America/New_York:20190427T110000
DTEND;TZID=America/New_York:20190427T180000
DTSTAMP:20221005T220521
CREATED:20190325T211330Z
LAST-MODIFIED:20190325T211330Z
UID:50960-1556362800-1556388000@www.kidsburgh.org
SUMMARY:Hill District Block Party at the August Wilson House
DESCRIPTION:A Hill District Block Party at the August Wilson House: April 27 \nFamilies are invited to Bedford Avenue for an event celebrating the life and legacy of Pulitzer Prize-winning playwright August Wilson. This fourth annual festival\, held from 11 a.m. to 6 p.m.\, features games\, food\, performers\, face painting and vendors.
URL:https://www.kidsburgh.org/ec/hill-district-block-party-at-the-august-wilson-house/
LOCATION:The August Wilson House\, 1727 Bedford Avenue\, Pittsburgh\, PA\, 15219\, United States
CATEGORIES:Arts and Culture,Community
GEO:40.4453124;-79.9855223
X-APPLE-STRUCTURED-LOCATION;VALUE=URI;X-ADDRESS=The August Wilson House 1727 Bedford Avenue Pittsburgh PA 15219 United States;X-APPLE-RADIUS=500;X-TITLE=1727 Bedford Avenue:geo:-79.9855223,40.4453124
END:VEVENT
END:VCALENDAR