BEGIN:VCALENDAR
VERSION:2.0
PRODID:-//Kidsburgh - ECPv6.0.1.1//NONSGML v1.0//EN
CALSCALE:GREGORIAN
METHOD:PUBLISH
X-WR-CALNAME:Kidsburgh
X-ORIGINAL-URL:https://www.kidsburgh.org
X-WR-CALDESC:Events for Kidsburgh
REFRESH-INTERVAL;VALUE=DURATION:PT1H
X-Robots-Tag:noindex
X-PUBLISHED-TTL:PT1H
BEGIN:VTIMEZONE
TZID:America/New_York
BEGIN:DAYLIGHT
TZOFFSETFROM:-0500
TZOFFSETTO:-0400
TZNAME:EDT
DTSTART:20220313T070000
END:DAYLIGHT
BEGIN:STANDARD
TZOFFSETFROM:-0400
TZOFFSETTO:-0500
TZNAME:EST
DTSTART:20221106T060000
END:STANDARD
END:VTIMEZONE
BEGIN:VEVENT
DTSTART;TZID=America/New_York:20220927T110000
DTEND;TZID=America/New_York:20220927T140000
DTSTAMP:20221005T220951
CREATED:20220808T142819Z
LAST-MODIFIED:20220808T142819Z
UID:94341-1664276400-1664287200@www.kidsburgh.org
SUMMARY:Table-Top Tuesday
DESCRIPTION:Enjoy a selection of free and classic table-top games in Schenley Plaza every Tuesday through October! Games are available on a first come basis. No registration required.
URL:https://www.kidsburgh.org/ec/table-top-tuesday-3/2022-09-27/
LOCATION:Schenley Plaza\, 4100 Forbes Ave\, Pittsburgh\, PA\, 15260\, United States
CATEGORIES:Community
ATTACH;FMTTYPE=image/jpeg:https://www.kidsburgh.org/wp-content/uploads/2022/08/download.jpeg
GEO:40.4435295;-79.9521286
X-APPLE-STRUCTURED-LOCATION;VALUE=URI;X-ADDRESS=Schenley Plaza 4100 Forbes Ave Pittsburgh PA 15260 United States;X-APPLE-RADIUS=500;X-TITLE=4100 Forbes Ave:geo:-79.9521286,40.4435295
END:VEVENT
END:VCALENDAR