BEGIN:VCALENDAR
VERSION:2.0
PRODID:-//Kidsburgh - ECPv6.0.1.1//NONSGML v1.0//EN
CALSCALE:GREGORIAN
METHOD:PUBLISH
X-WR-CALNAME:Kidsburgh
X-ORIGINAL-URL:https://www.kidsburgh.org
X-WR-CALDESC:Events for Kidsburgh
REFRESH-INTERVAL;VALUE=DURATION:PT1H
X-Robots-Tag:noindex
X-PUBLISHED-TTL:PT1H
BEGIN:VTIMEZONE
TZID:America/New_York
BEGIN:DAYLIGHT
TZOFFSETFROM:-0500
TZOFFSETTO:-0400
TZNAME:EDT
DTSTART:20220313T070000
END:DAYLIGHT
BEGIN:STANDARD
TZOFFSETFROM:-0400
TZOFFSETTO:-0500
TZNAME:EST
DTSTART:20221106T060000
END:STANDARD
END:VTIMEZONE
BEGIN:VEVENT
DTSTART;TZID=America/New_York:20221012T100000
DTEND;TZID=America/New_York:20221012T110000
DTSTAMP:20221005T233627
CREATED:20220913T020626Z
LAST-MODIFIED:20220913T020626Z
UID:95386-1665568800-1665572400@www.kidsburgh.org
SUMMARY:Pre and Postnatal Fitness Classes
DESCRIPTION:Join NASM certified trainer and human movement specialist Jacqui Somen (@jacqui.somen) for a pre and postnatal fitness class at 3 Rivers Outdoor Co. These classes are designed to keep you moving with baby\, create community\, empower you to strengthen your inner core\, relieve pain and tension\, and build a foundation for doing the activities that you love.
URL:https://www.kidsburgh.org/ec/pre-and-postnatal-fitness-classes/2022-10-12/
LOCATION:3 Rivers Outdoor Co.\, 1130 South Braddock Avenue\, Pittsburgh\, PA\, 15218\, United States
CATEGORIES:Health and Wellness
ATTACH;FMTTYPE=image/png:https://www.kidsburgh.org/wp-content/uploads/2022/09/Mama-Me-8.png
END:VEVENT
BEGIN:VEVENT
DTSTART;TZID=America/New_York:20221014T150000
DTEND;TZID=America/New_York:20221014T190000
DTSTAMP:20221005T233627
CREATED:20220602T202309Z
LAST-MODIFIED:20220602T202309Z
UID:92654-1665759600-1665774000@www.kidsburgh.org
SUMMARY:Northside Farmers Market
DESCRIPTION:Come support local vendors at the Northside Farmers Market! This is one of four markets operated by the City of Pittsburgh’s Special Events Office. \nThe Fresh Access program enables shoppers to use their food stamps\, credit and debit cards to buy fresh\, locally grown food. Food Bucks give Fresh Access food stamp shoppers extra money to spend on fruits and vegetables.
URL:https://www.kidsburgh.org/ec/northside-farmers-market/2022-10-14/
LOCATION:Allegheny Commons East Park\, Cedar Avenue\, Pittsburgh\, PA\, 15212\, United States
CATEGORIES:Health and Wellness,Community
ATTACH;FMTTYPE=image/jpeg:https://www.kidsburgh.org/wp-content/uploads/2022/05/Farmers_Markets_Pittsburgh_Region_2.jpeg
GEO:40.4533915;-80.0017092
X-APPLE-STRUCTURED-LOCATION;VALUE=URI;X-ADDRESS=Allegheny Commons East Park Cedar Avenue Pittsburgh PA 15212 United States;X-APPLE-RADIUS=500;X-TITLE=Cedar Avenue:geo:-80.0017092,40.4533915
END:VEVENT
BEGIN:VEVENT
DTSTART;TZID=America/New_York:20221015T183000
DTEND;TZID=America/New_York:20221015T183000
DTSTAMP:20221005T233627
CREATED:20220830T002310Z
LAST-MODIFIED:20220830T002310Z
UID:94929-1665858600-1665858600@www.kidsburgh.org
SUMMARY:Women Who Rock Benefit Concert Presented by Gibson Guitars
DESCRIPTION:Join us for this one night only event featuring multi-platinum recording artist Jordin Sparks and performances by Emily Wofe\, Tiny Wars featuring Abby Krizner 105.9 The X\, Huny\, and our 2022 Rising Star Contest winner. ALL AGES SHOW. \nWe unite our supporters to “Rock the Future of Women’s Health” with all proceeds benefiting understudied women’s health research at Magee-Womens Research Institute & Foundation 501(c)(3)\, our nation’s largest research institute dedicated solely to women’s health and reproductive biology. \nAll ticket holders receive access to our rockstar silent auction featuring once in a lifetime experiences and autographed music memorabilia\, pink carpet entrance\, photo booth\, and VIP ticket holders receive access to the VIP lounge and gift bags. \nEMCEE: Michele Michaels of 102.5 WDVE iHeart Radio\nWWR IMPACT AWARD RECIPIENT: DR.LISA ROHAN PRESENTED BY PAST IMPACT AWARD RECIPIENT KELLY FREY. \nFREE parking in Gold Lot 1 (must show concert ticket)\nGeneral Admission Doors 6:30 PM. Show 7:30 PM. VIP Ticket Holder Pre-Show Happy Hour 6:30-7:30 PM.
URL:https://www.kidsburgh.org/ec/women-who-rock-benefit-concert-presented-by-gibson-guitars/
LOCATION:Stage AE\, 400 N Shore Drive\, Pittsburgh\, PA\, 15212\, United States
CATEGORIES:Arts and Culture,Health and Wellness,Advocacy,Education,Community
ATTACH;FMTTYPE=image/png:https://www.kidsburgh.org/wp-content/uploads/2022/08/WWR-PGH-Facebook-Event.png
GEO:40.4461863;-80.0120666
X-APPLE-STRUCTURED-LOCATION;VALUE=URI;X-ADDRESS=Stage AE 400 N Shore Drive Pittsburgh PA 15212 United States;X-APPLE-RADIUS=500;X-TITLE=400 N Shore Drive:geo:-80.0120666,40.4461863
END:VEVENT
END:VCALENDAR